{
 "currentVersion": 11.3,
 "serviceDescription": "2016_Clipped_2m_CHM_raster",
 "name": "2016_Clipped_2m_CHM_raster",
 "description": "",
 "extent": {
  "xmin": 558001.1209432676,
  "ymin": 5695602.8880403,
  "xmax": 578201.1209432676,
  "ymax": 5732014.8880403,
  "spatialReference": {
   "wkid": 26909,
   "latestWkid": 26909
  }
 },
 "initialExtent": {
  "xmin": 558001.1209432676,
  "ymin": 5695602.8880403,
  "xmax": 578201.1209432676,
  "ymax": 5732014.8880403,
  "spatialReference": {
   "wkid": 26909,
   "latestWkid": 26909
  }
 },
 "fullExtent": {
  "xmin": 558001.1209432676,
  "ymin": 5695602.8880403,
  "xmax": 578201.1209432676,
  "ymax": 5732014.8880403,
  "spatialReference": {
   "wkid": 26909,
   "latestWkid": 26909
  }
 },
 "sortableFields": "MinPS,MaxPS,LowPS,HighPS,CenterX,CenterY,ZOrder,Shape_Length,Shape_Area",
 "bandCount": 1,
 "pixelType": "F32",
 "minValues": [
  0
 ],
 "maxValues": [
  71
 ],
 "meanValues": [
  7.9004002073128
 ],
 "stdvValues": [
  7.5451976162209
 ],
 "hasMultidimensions": false,
 "pixelSizeX": 2,
 "pixelSizeY": 2,
 "meanPixelSize": 2,
 "datasetFormat": "TIFF",
 "uncompressedSize": 735522400,
 "blockWidth": 128,
 "blockHeight": 128,
 "compressionType": "None",
 "bandNames": [
  "Band_1"
 ],
 "allowCopy": true,
 "allowAnalysis": true,
 "itemAccess": false,
 "inspectionCapabilities": "",
 "noDataValue": -3.4028234663852886E38,
 "noDataValues": [
  -3.4028234663852886E38
 ],
 "minPixelSize": 0,
 "maxPixelSize": 0,
 "copyrightText": "",
 "serviceDataType": "esriImageServiceDataTypeThematic",
 "serviceSourceType": "esriImageServiceSourceTypeDataset",
 "objectIdField": "",
 "fields": [],
 "capabilities": "Image,Metadata,Pixels,Mensuration",
 "defaultMosaicMethod": "Center",
 "allowedMosaicMethods": "",
 "sortField": "",
 "sortValue": null,
 "sortAscending": true,
 "mosaicOperator": "Last",
 "defaultCompressionQuality": 75,
 "defaultResamplingMethod": "Bilinear",
 "maxImageHeight": 4100,
 "maxImageWidth": 15000,
 "allowRasterFunction": true,
 "rasterFunctionInfos": [
  {
   "name": "2016_CHM",
   "description": "A raster function template.",
   "help": ""
  },
  {
   "name": "None",
   "description": "",
   "help": ""
  }
 ],
 "rasterTypeInfos": [
  {
   "name": "Raster Dataset",
   "description": "Supports all ArcGIS Raster Datasets",
   "help": ""
  }
 ],
 "mensurationCapabilities": "Basic",
 "hasHistograms": true,
 "hasColormap": false,
 "hasRasterAttributeTable": false,
 "minScale": 0,
 "maxScale": 0,
 "exportTilesAllowed": false,
 "supportsStatistics": false,
 "supportsAdvancedQueries": false,
 "editFieldsInfo": null,
 "ownershipBasedAccessControlForRasters": null,
 "allowComputeTiePoints": false,
 "useStandardizedQueries": true,
 "advancedQueryCapabilities": {
  "useStandardizedQueries": true,
  "supportsStatistics": false,
  "supportsOrderBy": false,
  "supportsDistinct": false,
  "supportsPagination": false
 },
 "spatialReference": {
  "wkid": 26909,
  "latestWkid": 26909
 }
}
