{
 "currentVersion": 11.3,
 "serviceDescription": "3m_NN_hflat_DEM_latest_clipped",
 "name": "3m_NN_hflat_DEM_latest_clipped",
 "description": "",
 "extent": {
  "xmin": 558095.1278085515,
  "ymin": 5695818.947968748,
  "xmax": 578108.1278085515,
  "ymax": 5731890.947968748,
  "spatialReference": {
   "wkid": 26909,
   "latestWkid": 26909
  }
 },
 "initialExtent": {
  "xmin": 558095.1278085515,
  "ymin": 5695818.947968748,
  "xmax": 578108.1278085515,
  "ymax": 5731890.947968748,
  "spatialReference": {
   "wkid": 26909,
   "latestWkid": 26909
  }
 },
 "fullExtent": {
  "xmin": 558095.1278085515,
  "ymin": 5695818.947968748,
  "xmax": 578108.1278085515,
  "ymax": 5731890.947968748,
  "spatialReference": {
   "wkid": 26909,
   "latestWkid": 26909
  }
 },
 "sortableFields": "",
 "bandCount": 1,
 "pixelType": "F32",
 "minValues": [
  -1.3810811042786
 ],
 "maxValues": [
  1012.3724365234
 ],
 "meanValues": [
  165.3678324978
 ],
 "stdvValues": [
  163.98601268336
 ],
 "hasMultidimensions": false,
 "pixelSizeX": 3,
 "pixelSizeY": 3,
 "meanPixelSize": 3,
 "datasetFormat": "TIFF",
 "uncompressedSize": 320848416,
 "blockWidth": 256,
 "blockHeight": 16,
 "compressionType": "None",
 "bandNames": [
  "Band_1"
 ],
 "allowCopy": true,
 "allowAnalysis": true,
 "itemAccess": false,
 "inspectionCapabilities": "",
 "noDataValue": -3.4028234663852886E38,
 "noDataValues": [
  -3.4028234663852886E38
 ],
 "minPixelSize": 0,
 "maxPixelSize": 0,
 "copyrightText": "",
 "serviceDataType": "esriImageServiceDataTypeGeneric",
 "serviceSourceType": "esriImageServiceSourceTypeDataset",
 "objectIdField": "",
 "fields": [],
 "capabilities": "Image,Metadata,Pixels,Mensuration",
 "defaultMosaicMethod": "Center",
 "allowedMosaicMethods": "",
 "sortField": "",
 "sortValue": null,
 "sortAscending": true,
 "mosaicOperator": "First",
 "defaultCompressionQuality": 75,
 "defaultResamplingMethod": "Bilinear",
 "maxImageHeight": 4100,
 "maxImageWidth": 15000,
 "allowRasterFunction": true,
 "rasterFunctionInfos": [
  {
   "name": "None",
   "description": "Make a Raster or Raster Dataset into a Function Raster Dataset.",
   "help": ""
  },
  {
   "name": "Hillshade",
   "description": "A raster function template.",
   "help": ""
  },
  {
   "name": "Shaded_releif",
   "description": "A raster function template.",
   "help": ""
  },
  {
   "name": "Slope",
   "description": "A raster function template.",
   "help": ""
  }
 ],
 "rasterTypeInfos": [
  {
   "name": "Raster Dataset",
   "description": "Supports all ArcGIS Raster Datasets",
   "help": ""
  }
 ],
 "mensurationCapabilities": "Basic",
 "hasHistograms": true,
 "hasColormap": false,
 "hasRasterAttributeTable": false,
 "minScale": 0,
 "maxScale": 0,
 "exportTilesAllowed": false,
 "supportsStatistics": false,
 "supportsAdvancedQueries": false,
 "editFieldsInfo": null,
 "ownershipBasedAccessControlForRasters": null,
 "allowComputeTiePoints": false,
 "useStandardizedQueries": true,
 "advancedQueryCapabilities": {
  "useStandardizedQueries": true,
  "supportsStatistics": false,
  "supportsOrderBy": false,
  "supportsDistinct": false,
  "supportsPagination": false
 },
 "spatialReference": {
  "wkid": 26909,
  "latestWkid": 26909
 }
}
