{
 "currentVersion": 11.3,
 "serviceDescription": "Bamfield_Wizard_Ortho_April9_2016",
 "name": "Bamfield_Wizard_Ortho_April9_2016",
 "description": "",
 "extent": {
  "xmin": 341487.70381616644,
  "ymin": 5413822.033581669,
  "xmax": 341744.2927359281,
  "ymax": 5414059.503334538,
  "spatialReference": {
   "wkid": 32610,
   "latestWkid": 32610
  }
 },
 "initialExtent": {
  "xmin": 341487.70381616644,
  "ymin": 5413822.033581669,
  "xmax": 341744.2927359281,
  "ymax": 5414059.503334538,
  "spatialReference": {
   "wkid": 32610,
   "latestWkid": 32610
  }
 },
 "fullExtent": {
  "xmin": 341487.70381616644,
  "ymin": 5413822.033581669,
  "xmax": 341744.2927359281,
  "ymax": 5414059.503334538,
  "spatialReference": {
   "wkid": 32610,
   "latestWkid": 32610
  }
 },
 "sortableFields": "",
 "bandCount": 4,
 "pixelType": "U8",
 "minValues": [
  0,
  0,
  0,
  0
 ],
 "maxValues": [
  255,
  255,
  255,
  255
 ],
 "meanValues": [
  93.339930602172,
  98.039089930898,
  92.96051230668,
  196.82440153011
 ],
 "stdvValues": [
  58.935269530994,
  60.829282079643,
  59.484035538393,
  107.00643691331
 ],
 "hasMultidimensions": false,
 "pixelSizeX": 0.03166200885508994,
 "pixelSizeY": 0.031662633715818324,
 "meanPixelSize": 0.03166232128545413,
 "datasetFormat": "TIFF",
 "uncompressedSize": 243090000,
 "blockWidth": 128,
 "blockHeight": 128,
 "compressionType": "None",
 "bandNames": [
  "Band_1",
  "Band_2",
  "Band_3",
  "Band_4"
 ],
 "allowCopy": true,
 "allowAnalysis": true,
 "itemAccess": false,
 "inspectionCapabilities": "",
 "noDataValue": -10000,
 "noDataValues": [
  -10000,
  -10000,
  -10000,
  -10000
 ],
 "minPixelSize": 0,
 "maxPixelSize": 0,
 "copyrightText": "",
 "serviceDataType": "esriImageServiceDataTypeGeneric",
 "serviceSourceType": "esriImageServiceSourceTypeDataset",
 "objectIdField": "",
 "fields": [],
 "capabilities": "Image,Metadata,Mensuration",
 "defaultMosaicMethod": "Center",
 "allowedMosaicMethods": "",
 "sortField": "",
 "sortValue": null,
 "sortAscending": true,
 "mosaicOperator": "First",
 "defaultCompressionQuality": 75,
 "defaultResamplingMethod": "Bilinear",
 "maxImageHeight": 4100,
 "maxImageWidth": 15000,
 "allowRasterFunction": true,
 "rasterFunctionInfos": [
  {
   "name": "None",
   "description": "",
   "help": ""
  }
 ],
 "rasterTypeInfos": [
  {
   "name": "Raster Dataset",
   "description": "Supports all ArcGIS Raster Datasets",
   "help": ""
  }
 ],
 "mensurationCapabilities": "Basic",
 "hasHistograms": true,
 "hasColormap": false,
 "hasRasterAttributeTable": false,
 "minScale": 0,
 "maxScale": 0,
 "exportTilesAllowed": false,
 "supportsStatistics": false,
 "supportsAdvancedQueries": false,
 "editFieldsInfo": null,
 "ownershipBasedAccessControlForRasters": null,
 "allowComputeTiePoints": false,
 "useStandardizedQueries": true,
 "advancedQueryCapabilities": {
  "useStandardizedQueries": true,
  "supportsStatistics": false,
  "supportsOrderBy": false,
  "supportsDistinct": false,
  "supportsPagination": false
 },
 "spatialReference": {
  "wkid": 32610,
  "latestWkid": 32610
 }
}
