{ "currentVersion": 11.3, "cimVersion": "3.3.0", "serviceDescription": "
Layers used for Hakai Terrain Relief:<\/SPAN><\/SPAN><\/P> 1) Land Mask<\/SPAN><\/SPAN><\/P> Land Mask is derived from the Greater Hakai Area of Interest Boundary - the British Columbia shoreline dataset (BC DATA - 2013). 2012 + 2014 LiDAR datasets were used to enhance shoreline data for Calvert Island area. A 0 tide was used to create more accurate polygons that formed to the shoreline better than the provincial dataset. Manual edits and quality control using 2006 + 2012 orthophotos was also conducted by HAKAI SPAR in 2014. <\/SPAN><\/SPAN><\/P> 2) Streams<\/SPAN><\/SPAN><\/P> Streams are based on the British Columbia Fresh Water Atlas (<\/SPAN><\/SPAN>http://geobc.gov.bc.ca/base-mapping/atlas/fwa/)<\/SPAN><\/SPAN><\/A>. FWA is dissolved and scale dependant. Dissolved based on stream order so relative stream sizes can be reflected in the basemap. No alterations have been made to the streams data although some errors are observed on smaller order streams. An updated dataset based on LiDAR hydrology outputs will enhance this data layer in future versions.<\/SPAN><\/SPAN><\/P> 3) Lakes<\/SPAN><\/SPAN><\/P> Lakes are derived from the British Columbia Fresh Water Atlas (<\/SPAN><\/SPAN>http://geobc.gov.bc.ca/base-mapping/atlas/fwa/)<\/SPAN><\/SPAN><\/A>.<\/SPAN><\/SPAN><\/P> Minor manual edits have been made to enhance the lakes layer on Calvert Island by HAKAI SPAR.<\/SPAN><\/SPAN><\/P> 4) DEM (Digital Elevation Model)<\/SPAN><\/SPAN><\/P> DEM was supplied by the TRIM dataset at 25 meter spatial resolution. Edits include resampling the 25 meters to 5 meters to improve the look by giving it a smoother appearance. A clip was used (using the land mask) to smooth the edges of the shoreline. Calvert Island was erased so the Hakai LiDAR dataset could be used to enhance the spatial resolution of the final product. The Hakai LiDAR data (2m spatial resolution) is from the November 14<\/SPAN><\/SPAN>th <\/SPAN><\/SPAN>data and requires further processing. Inaccuracies exist in the LiDAR based DEM and it should only be used for visualization. Updates in 2015 will allow for the publishing of a new DEM and therefore updated Hakai Terrain Relief basemap. <\/SPAN><\/SPAN><\/P> 5) Hillshade<\/SPAN><\/SPAN><\/P> Hillshade model was developed in ARC desktop from the TRIM 25 meter model. A raster calculator was used to convert \u201cno-data\u201d to a value of 180 (flat land). A clip to the shoreline (land mask) was used to ensure no bleeding of no data would impact the look of the final basemap. <\/SPAN><\/SPAN><\/P> Hillshade for Calvert Island was conducted using the November 14<\/SPAN><\/SPAN>th <\/SPAN><\/SPAN>LiDAR based DEM (2m). Future enhanced DEM data will result in a new hillshade for 2015.<\/SPAN><\/SPAN><\/P> 6) Bathymetry model and hillshade. <\/SPAN><\/SPAN><\/P> 25 meter bathymetry model was resampled to 5 meters and raster calculator \u201cno data\u201d to \u201c0\u201d to fill any gaps and clipped to the \u201cland mask\u201c layer. The TRIM based 25 meter model had a raster calculator to \u201c0\u201d to fill the gaps and a hillshade was produced. A clip of the 25 meter hillshade using the \u201cland mask\u201d produced a final product to be fused with the bathymetry model for all ocean areas. <\/SPAN><\/SPAN><\/P> Gamma corrected Orthorectified Elevation Tint Fusions were created by fusing the described hillshades with the DEM, applying a custom tint to the latter, separately for land and ocean hillshade-DEM pairs as per http://www.esri.com/news/arcwatch/0612/using-image-analysis-functions-to-display-layer-tints-on-hillshades.html. The same process was followed for the land component of Calvert Island separately. The resulting resolutions for the land and ocean Tint Fusions are: <\/SPAN><\/P> - 25m for the ocean component <\/SPAN><\/P> - 25m for the land component excluding Calvert Island<\/SPAN><\/P> - 5m for the land component of Calvert Island<\/SPAN><\/P> A summary of the Raster Data used for the Hakai Terrain Relief basemap (dated December 5<\/SPAN><\/SPAN>th<\/SPAN><\/SPAN>, 2014)<\/SPAN><\/SPAN><\/P> Thee sets of DEM / Hillshades were produced to cover the entire greater hakai study area.<\/SPAN><\/SPAN><\/P> TRIM based DEM + Hillshade \u2013 All land except Calvert / Hecate region.<\/SPAN><\/SPAN><\/P><\/LI> 2012 / 2014 LiDAR based DEM + Hillshade (dated November 14<\/SPAN><\/SPAN>th<\/SPAN><\/SPAN>\u2013 2014) \u2013 All Calvert + Hecate areas. * Errors in the data. DEM needs work and should only be used for visualization. Updated expected by February, 2015.<\/SPAN><\/SPAN><\/P><\/LI><\/OL> 3. Bathymetry (TRIM based) elevation model + hillshade. Covers all ocean areas.<\/SPAN><\/P> This basemap can be downloaded and used offline on ArcGIS Desktop, ArcGIS App for iOS and Android, and ArcGIS Collector for iOS and Android. <\/SPAN><\/P><\/DIV><\/DIV><\/DIV>",
"mapName": "Hakai Releif",
"description": " Layers used for Hakai Terrain Relief:<\/SPAN><\/SPAN><\/P> 1) Land Mask<\/SPAN><\/SPAN><\/P> Land Mask is derived from the Greater Hakai Area of Interest Boundary - the British Columbia shoreline dataset (BC DATA - 2013). 2012 + 2014 LiDAR datasets were used to enhance shoreline data for Calvert Island area. A 0 tide was used to create more accurate polygons that formed to the shoreline better than the provincial dataset. Manual edits and quality control using 2006 + 2012 orthophotos was also conducted by HAKAI SPAR in 2014. <\/SPAN><\/SPAN><\/P> 2) Streams<\/SPAN><\/SPAN><\/P> Streams are based on the British Columbia Fresh Water Atlas (<\/SPAN><\/SPAN>http://geobc.gov.bc.ca/base-mapping/atlas/fwa/)<\/SPAN><\/SPAN><\/A>. FWA is dissolved and scale dependant. Dissolved based on stream order so relative stream sizes can be reflected in the basemap. No alterations have been made to the streams data although some errors are observed on smaller order streams. An updated dataset based on LiDAR hydrology outputs will enhance this data layer in future versions.<\/SPAN><\/SPAN><\/P> 3) Lakes<\/SPAN><\/SPAN><\/P> Lakes are derived from the British Columbia Fresh Water Atlas (<\/SPAN><\/SPAN>http://geobc.gov.bc.ca/base-mapping/atlas/fwa/)<\/SPAN><\/SPAN><\/A>.<\/SPAN><\/SPAN><\/P> Minor manual edits have been made to enhance the lakes layer on Calvert Island by HAKAI SPAR.<\/SPAN><\/SPAN><\/P> 4) DEM (Digital Elevation Model)<\/SPAN><\/SPAN><\/P> DEM was supplied by the TRIM dataset at 25 meter spatial resolution. Edits include resampling the 25 meters to 5 meters to improve the look by giving it a smoother appearance. A clip was used (using the land mask) to smooth the edges of the shoreline. Calvert Island was erased so the Hakai LiDAR dataset could be used to enhance the spatial resolution of the final product. The Hakai LiDAR data (2m spatial resolution) is from the November 14<\/SPAN><\/SPAN>th <\/SPAN><\/SPAN>data and requires further processing. Inaccuracies exist in the LiDAR based DEM and it should only be used for visualization. Updates in 2015 will allow for the publishing of a new DEM and therefore updated Hakai Terrain Relief basemap. <\/SPAN><\/SPAN><\/P> 5) Hillshade<\/SPAN><\/SPAN><\/P> Hillshade model was developed in ARC desktop from the TRIM 25 meter model. A raster calculator was used to convert \u201cno-data\u201d to a value of 180 (flat land). A clip to the shoreline (land mask) was used to ensure no bleeding of no data would impact the look of the final basemap. <\/SPAN><\/SPAN><\/P> Hillshade for Calvert Island was conducted using the November 14<\/SPAN><\/SPAN>th <\/SPAN><\/SPAN>LiDAR based DEM (2m). Future enhanced DEM data will result in a new hillshade for 2015.<\/SPAN><\/SPAN><\/P> 6) Bathymetry model and hillshade. <\/SPAN><\/SPAN><\/P> 25 meter bathymetry model was resampled to 5 meters and raster calculator \u201cno data\u201d to \u201c0\u201d to fill any gaps and clipped to the \u201cland mask\u201c layer. The TRIM based 25 meter model had a raster calculator to \u201c0\u201d to fill the gaps and a hillshade was produced. A clip of the 25 meter hillshade using the \u201cland mask\u201d produced a final product to be fused with the bathymetry model for all ocean areas. <\/SPAN><\/SPAN><\/P> Gamma corrected Orthorectified Elevation Tint Fusions were created by fusing the described hillshades with the DEM, applying a custom tint to the latter, separately for land and ocean hillshade-DEM pairs as per http://www.esri.com/news/arcwatch/0612/using-image-analysis-functions-to-display-layer-tints-on-hillshades.html. The same process was followed for the land component of Calvert Island separately. The resulting resolutions for the land and ocean Tint Fusions are: <\/SPAN><\/P> - 25m for the ocean component <\/SPAN><\/P> - 25m for the land component excluding Calvert Island<\/SPAN><\/P> - 5m for the land component of Calvert Island<\/SPAN><\/P> A summary of the Raster Data used for the Hakai Terrain Relief basemap (dated December 5<\/SPAN><\/SPAN>th<\/SPAN><\/SPAN>, 2014)<\/SPAN><\/SPAN><\/P> Thee sets of DEM / Hillshades were produced to cover the entire greater hakai study area.<\/SPAN><\/SPAN><\/P> TRIM based DEM + Hillshade \u2013 All land except Calvert / Hecate region.<\/SPAN><\/SPAN><\/P><\/LI> 2012 / 2014 LiDAR based DEM + Hillshade (dated November 14<\/SPAN><\/SPAN>th<\/SPAN><\/SPAN>\u2013 2014) \u2013 All Calvert + Hecate areas. * Errors in the data. DEM needs work and should only be used for visualization. Updated expected by February, 2015.<\/SPAN><\/SPAN><\/P><\/LI><\/OL> 3. Bathymetry (TRIM based) elevation model + hillshade. Covers all ocean areas.<\/SPAN><\/P> This basemap can be downloaded and used offline on ArcGIS Desktop, ArcGIS App for iOS and Android, and ArcGIS Collector for iOS and Android. <\/SPAN><\/P><\/DIV><\/DIV><\/DIV>",
"copyrightText": "Santiago Gonzalez Arriola, Keith Holmes, Terrain Resource Information Management Program (TRIM), Terra Remote Sensing, CEDD Lab UVic, BC Freshwater Atlas, Government of British Columbia, Geo BC.",
"supportsDynamicLayers": true,
"layers": [
{
"id": 0,
"name": "Land_Line_Out",
"parentLayerId": -1,
"defaultVisibility": true,
"subLayerIds": null,
"minScale": 0,
"maxScale": 72223.819286,
"type": "Feature Layer",
"geometryType": "esriGeometryPolyline",
"supportsDynamicLegends": true
},
{
"id": 1,
"name": "Land_Line_In",
"parentLayerId": -1,
"defaultVisibility": true,
"subLayerIds": null,
"minScale": 72223.819286,
"maxScale": 0,
"type": "Feature Layer",
"geometryType": "esriGeometryPolyline",
"supportsDynamicLegends": true
},
{
"id": 2,
"name": "Y_Lakes_FIN2",
"parentLayerId": -1,
"defaultVisibility": true,
"subLayerIds": null,
"minScale": 0,
"maxScale": 0,
"type": "Feature Layer",
"geometryType": "esriGeometryPolygon",
"supportsDynamicLegends": true
},
{
"id": 3,
"name": "Buildings",
"parentLayerId": -1,
"defaultVisibility": true,
"subLayerIds": null,
"minScale": 72223.819286,
"maxScale": 0,
"type": "Feature Layer",
"geometryType": "esriGeometryPolygon",
"supportsDynamicLegends": true
},
{
"id": 4,
"name": "Trails",
"parentLayerId": -1,
"defaultVisibility": true,
"subLayerIds": null,
"minScale": 72223.819286,
"maxScale": 0,
"type": "Feature Layer",
"geometryType": "esriGeometryPolyline",
"supportsDynamicLegends": true
},
{
"id": 5,
"name": "Calvert_LIDAR_BASED",
"parentLayerId": -1,
"defaultVisibility": true,
"subLayerIds": [
6,
7,
8
],
"minScale": 0,
"maxScale": 0,
"type": "Group Layer",
"supportsDynamicLegends": false
},
{
"id": 6,
"name": "3m_Based_Streams_B_3_6",
"parentLayerId": 5,
"defaultVisibility": true,
"subLayerIds": null,
"minScale": 200000,
"maxScale": 37000,
"type": "Feature Layer",
"geometryType": "esriGeometryPolyline",
"supportsDynamicLegends": true
},
{
"id": 7,
"name": "3m_Based_Streams_C",
"parentLayerId": 5,
"defaultVisibility": true,
"subLayerIds": null,
"minScale": 37000,
"maxScale": 0,
"type": "Feature Layer",
"geometryType": "esriGeometryPolyline",
"supportsDynamicLegends": true
},
{
"id": 8,
"name": "3m_Based_Streams_A_5_6",
"parentLayerId": 5,
"defaultVisibility": true,
"subLayerIds": null,
"minScale": 1200000,
"maxScale": 200000,
"type": "Feature Layer",
"geometryType": "esriGeometryPolyline",
"supportsDynamicLegends": true
},
{
"id": 9,
"name": "FWA_BASED",
"parentLayerId": -1,
"defaultVisibility": true,
"subLayerIds": [
10,
11,
12
],
"minScale": 0,
"maxScale": 0,
"type": "Group Layer",
"supportsDynamicLegends": false
},
{
"id": 10,
"name": "FWA_Web_Mainland_AA_6_8",
"parentLayerId": 9,
"defaultVisibility": true,
"subLayerIds": null,
"minScale": 4700000,
"maxScale": 1200000,
"type": "Feature Layer",
"geometryType": "esriGeometryPolyline",
"supportsDynamicLegends": true
},
{
"id": 11,
"name": "FWA_Web_Mainland_A_3_8",
"parentLayerId": 9,
"defaultVisibility": true,
"subLayerIds": null,
"minScale": 1200000,
"maxScale": 200000,
"type": "Feature Layer",
"geometryType": "esriGeometryPolyline",
"supportsDynamicLegends": true
},
{
"id": 12,
"name": "FWA_Web_Mainland_B",
"parentLayerId": 9,
"defaultVisibility": true,
"subLayerIds": null,
"minScale": 200000,
"maxScale": 0,
"type": "Feature Layer",
"geometryType": "esriGeometryPolyline",
"supportsDynamicLegends": true
},
{
"id": 13,
"name": "Calvert_rgb_pansharp_tint.tif",
"parentLayerId": -1,
"defaultVisibility": true,
"subLayerIds": null,
"minScale": 0,
"maxScale": 0,
"type": "Raster Layer",
"supportsDynamicLegends": true
},
{
"id": 14,
"name": "Pansharp_Calvert_DEM_2m_RGB.tif",
"parentLayerId": -1,
"defaultVisibility": true,
"subLayerIds": null,
"minScale": 0,
"maxScale": 0,
"type": "Raster Layer",
"supportsDynamicLegends": true
},
{
"id": 15,
"name": "Pansharp_TRIM_DEM_25m_RGB.tif",
"parentLayerId": -1,
"defaultVisibility": true,
"subLayerIds": null,
"minScale": 0,
"maxScale": 0,
"type": "Raster Layer",
"supportsDynamicLegends": true
},
{
"id": 16,
"name": "TRIM_HS_25.tif",
"parentLayerId": -1,
"defaultVisibility": true,
"subLayerIds": null,
"minScale": 0,
"maxScale": 0,
"type": "Raster Layer",
"supportsDynamicLegends": true
},
{
"id": 17,
"name": "bathy_5m.tif",
"parentLayerId": -1,
"defaultVisibility": true,
"subLayerIds": null,
"minScale": 0,
"maxScale": 0,
"type": "Raster Layer",
"supportsDynamicLegends": true
}
],
"tables": [],
"spatialReference": {
"wkid": 102100,
"latestWkid": 3857,
"xyTolerance": 0.001,
"zTolerance": 0.001,
"mTolerance": 0.001,
"falseX": -20037700,
"falseY": -30241100,
"xyUnits": 10000,
"falseZ": -100000,
"zUnits": 10000,
"falseM": -100000,
"mUnits": 10000
},
"singleFusedMapCache": true,
"tileInfo": {
"rows": 256,
"cols": 256,
"dpi": 96,
"format": "Mixed",
"compressionQuality": 75,
"origin": {
"x": -2.0037508342787E7,
"y": 2.0037508342787E7
},
"spatialReference": {
"wkid": 102100,
"latestWkid": 3857,
"xyTolerance": 0.001,
"zTolerance": 0.001,
"mTolerance": 0.001,
"falseX": -20037700,
"falseY": -30241100,
"xyUnits": 1.4892314192838538E8,
"falseZ": -100000,
"zUnits": 10000,
"falseM": -100000,
"mUnits": 10000
},
"lods": [
{
"level": 0,
"resolution": 156543.033928,
"scale": 5.91657527591555E8
},
{
"level": 1,
"resolution": 78271.5169639999,
"scale": 2.95828763795777E8
},
{
"level": 2,
"resolution": 39135.7584820001,
"scale": 1.47914381897889E8
},
{
"level": 3,
"resolution": 19567.8792409999,
"scale": 7.3957190948944E7
},
{
"level": 4,
"resolution": 9783.93962049996,
"scale": 3.6978595474472E7
},
{
"level": 5,
"resolution": 4891.96981024998,
"scale": 1.8489297737236E7
},
{
"level": 6,
"resolution": 2445.98490512499,
"scale": 9244648.868618
},
{
"level": 7,
"resolution": 1222.99245256249,
"scale": 4622324.434309
},
{
"level": 8,
"resolution": 611.49622628138,
"scale": 2311162.217155
},
{
"level": 9,
"resolution": 305.748113140558,
"scale": 1155581.108577
},
{
"level": 10,
"resolution": 152.874056570411,
"scale": 577790.554289
},
{
"level": 11,
"resolution": 76.4370282850732,
"scale": 288895.277144
},
{
"level": 12,
"resolution": 38.2185141425366,
"scale": 144447.638572
},
{
"level": 13,
"resolution": 19.1092570712683,
"scale": 72223.819286
},
{
"level": 14,
"resolution": 9.55462853563415,
"scale": 36111.909643
},
{
"level": 15,
"resolution": 4.77731426794937,
"scale": 18055.954822
},
{
"level": 16,
"resolution": 2.38865713397468,
"scale": 9027.977411
},
{
"level": 17,
"resolution": 1.19432856685505,
"scale": 4513.988705
},
{
"level": 18,
"resolution": 0.597164283559817,
"scale": 2256.994353
},
{
"level": 19,
"resolution": 0.298582141647617,
"scale": 1128.497176
},
{
"level": 20,
"resolution": 0.14929107082380833,
"scale": 564.248588
},
{
"level": 21,
"resolution": 0.07464553541190416,
"scale": 282.124294
},
{
"level": 22,
"resolution": 0.03732276770595208,
"scale": 141.062147
},
{
"level": 23,
"resolution": 0.01866138385297604,
"scale": 70.5310735
}
]
},
"storageInfo": {
"storageFormat": "esriMapCacheStorageModeCompactV2",
"packetSize": 128
},
"initialExtent": {
"xmin": -1.4603550332965063E7,
"ymin": 6373622.452010341,
"xmax": -1.363769282143494E7,
"ymax": 7012135.910589665,
"spatialReference": {
"cs": "pcs",
"wkid": 102100
}
},
"fullExtent": {
"xmin": -1.4502609823599672E7,
"ymin": 6390742.573026457,
"xmax": -1.3729741625811102E7,
"ymax": 6995242.573026457,
"spatialReference": {
"cs": "pcs",
"wkid": 102100
}
},
"datesInUnknownTimezone": false,
"minScale": 144447.638572,
"maxScale": 4513.988705,
"minLOD": 12,
"maxLOD": 17,
"units": "esriMeters",
"supportedImageFormatTypes": "PNG32,PNG24,PNG,JPG,DIB,TIFF,EMF,PS,PDF,GIF,SVG,SVGZ,BMP",
"documentInfo": {
"Title": "Hakai Terrain Relief",
"Author": "",
"Comments": " Layers used for Hakai Terrain Relief:<\/SPAN><\/SPAN><\/P> 1) Land Mask<\/SPAN><\/SPAN><\/P> Land Mask is derived from the Greater Hakai Area of Interest Boundary - the British Columbia shoreline dataset (BC DATA - 2013). 2012 + 2014 LiDAR datasets were used to enhance shoreline data for Calvert Island area. A 0 tide was used to create more accurate polygons that formed to the shoreline better than the provincial dataset. Manual edits and quality control using 2006 + 2012 orthophotos was also conducted by HAKAI SPAR in 2014. <\/SPAN><\/SPAN><\/P> 2) Streams<\/SPAN><\/SPAN><\/P> Streams are based on the British Columbia Fresh Water Atlas (<\/SPAN><\/SPAN>http://geobc.gov.bc.ca/base-mapping/atlas/fwa/)<\/SPAN><\/SPAN><\/A>. FWA is dissolved and scale dependant. Dissolved based on stream order so relative stream sizes can be reflected in the basemap. No alterations have been made to the streams data although some errors are observed on smaller order streams. An updated dataset based on LiDAR hydrology outputs will enhance this data layer in future versions.<\/SPAN><\/SPAN><\/P>