{ "currentVersion": 11.3, "cimVersion": "3.3.0", "serviceDescription": "
Basemap map package for ARC Online. Hakai Topographic.<\/SPAN><\/P><\/DIV><\/DIV><\/DIV>",
"mapName": "Hakai Topographic",
"description": " Basemap map package for ARC Online. Hakai Topographic.<\/SPAN><\/P><\/DIV><\/DIV><\/DIV>",
"copyrightText": "HAKAI SPAR",
"supportsDynamicLayers": true,
"layers": [
{
"id": 0,
"name": "Buildings",
"parentLayerId": -1,
"defaultVisibility": true,
"subLayerIds": null,
"minScale": 72223.819286,
"maxScale": 0,
"type": "Feature Layer",
"geometryType": "esriGeometryPolygon",
"supportsDynamicLegends": true
},
{
"id": 1,
"name": "Trails",
"parentLayerId": -1,
"defaultVisibility": true,
"subLayerIds": null,
"minScale": 72223.819286,
"maxScale": 0,
"type": "Feature Layer",
"geometryType": "esriGeometryPolyline",
"supportsDynamicLegends": true
},
{
"id": 2,
"name": "Lakes_Hakai_FWA",
"parentLayerId": -1,
"defaultVisibility": true,
"subLayerIds": null,
"minScale": 2500000,
"maxScale": 0,
"type": "Feature Layer",
"geometryType": "esriGeometryPolygon",
"supportsDynamicLegends": true
},
{
"id": 3,
"name": "Calvert_LIDAR_BASED",
"parentLayerId": -1,
"defaultVisibility": true,
"subLayerIds": [
4,
5,
6
],
"minScale": 2500000,
"maxScale": 0,
"type": "Group Layer",
"supportsDynamicLegends": false
},
{
"id": 4,
"name": "3m_Based_Streams_B_3_6",
"parentLayerId": 3,
"defaultVisibility": true,
"subLayerIds": null,
"minScale": 200000,
"maxScale": 37000,
"type": "Feature Layer",
"geometryType": "esriGeometryPolyline",
"supportsDynamicLegends": true
},
{
"id": 5,
"name": "3m_Based_Streams_C",
"parentLayerId": 3,
"defaultVisibility": true,
"subLayerIds": null,
"minScale": 37000,
"maxScale": 0,
"type": "Feature Layer",
"geometryType": "esriGeometryPolyline",
"supportsDynamicLegends": true
},
{
"id": 6,
"name": "3m_Based_Streams_A_5_6",
"parentLayerId": 3,
"defaultVisibility": true,
"subLayerIds": null,
"minScale": 1155581.108577,
"maxScale": 200000,
"type": "Feature Layer",
"geometryType": "esriGeometryPolyline",
"supportsDynamicLegends": true
},
{
"id": 7,
"name": "FWA_BASED",
"parentLayerId": -1,
"defaultVisibility": true,
"subLayerIds": [
8,
9,
10
],
"minScale": 2500000,
"maxScale": 0,
"type": "Group Layer",
"supportsDynamicLegends": false
},
{
"id": 8,
"name": "FWA_Web_Mainland_AA_6_8",
"parentLayerId": 7,
"defaultVisibility": true,
"subLayerIds": null,
"minScale": 4622324.434309,
"maxScale": 1155581.108577,
"type": "Feature Layer",
"geometryType": "esriGeometryPolyline",
"supportsDynamicLegends": true
},
{
"id": 9,
"name": "FWA_Web_Mainland_A_3_8",
"parentLayerId": 7,
"defaultVisibility": true,
"subLayerIds": null,
"minScale": 1155581.108577,
"maxScale": 200000,
"type": "Feature Layer",
"geometryType": "esriGeometryPolyline",
"supportsDynamicLegends": true
},
{
"id": 10,
"name": "FWA_Web_Mainland_B",
"parentLayerId": 7,
"defaultVisibility": true,
"subLayerIds": null,
"minScale": 200000,
"maxScale": 0,
"type": "Feature Layer",
"geometryType": "esriGeometryPolyline",
"supportsDynamicLegends": true
},
{
"id": 11,
"name": "Cont_20m_TRIM",
"parentLayerId": -1,
"defaultVisibility": true,
"subLayerIds": null,
"minScale": 150000,
"maxScale": 18055.954822,
"type": "Feature Layer",
"geometryType": "esriGeometryPolyline",
"supportsDynamicLegends": true
},
{
"id": 12,
"name": "Cont_20m_Calvert",
"parentLayerId": -1,
"defaultVisibility": true,
"subLayerIds": null,
"minScale": 150000,
"maxScale": 0,
"type": "Feature Layer",
"geometryType": "esriGeometryPolyline",
"supportsDynamicLegends": true
},
{
"id": 13,
"name": "Cont_5m_Calvert",
"parentLayerId": -1,
"defaultVisibility": true,
"subLayerIds": null,
"minScale": 18055.954822,
"maxScale": 0,
"type": "Feature Layer",
"geometryType": "esriGeometryPolyline",
"supportsDynamicLegends": true
},
{
"id": 14,
"name": "Zoom Level 8 - 9",
"parentLayerId": -1,
"defaultVisibility": true,
"subLayerIds": [
15,
16
],
"minScale": 2500000,
"maxScale": 1000000,
"type": "Group Layer",
"supportsDynamicLegends": false
},
{
"id": 15,
"name": "DEM_Work_MG5_2m_WEB.tif",
"parentLayerId": 14,
"defaultVisibility": true,
"subLayerIds": null,
"minScale": 0,
"maxScale": 0,
"type": "Raster Layer",
"supportsDynamicLegends": true
},
{
"id": 16,
"name": "FIN_DEM_5_WEB.tif",
"parentLayerId": 14,
"defaultVisibility": true,
"subLayerIds": null,
"minScale": 0,
"maxScale": 0,
"type": "Raster Layer",
"supportsDynamicLegends": true
},
{
"id": 17,
"name": "Zoom Level 10 - 11",
"parentLayerId": -1,
"defaultVisibility": true,
"subLayerIds": [
18,
19
],
"minScale": 600000,
"maxScale": 200000,
"type": "Group Layer",
"supportsDynamicLegends": false
},
{
"id": 18,
"name": "DEM_Work_MG5_2m_WEB.tif",
"parentLayerId": 17,
"defaultVisibility": true,
"subLayerIds": null,
"minScale": 0,
"maxScale": 0,
"type": "Raster Layer",
"supportsDynamicLegends": true
},
{
"id": 19,
"name": "FIN_DEM_5_WEB.tif",
"parentLayerId": 17,
"defaultVisibility": true,
"subLayerIds": null,
"minScale": 0,
"maxScale": 0,
"type": "Raster Layer",
"supportsDynamicLegends": true
},
{
"id": 20,
"name": "Zoom Level > 11",
"parentLayerId": -1,
"defaultVisibility": true,
"subLayerIds": [
21,
22
],
"minScale": 150000,
"maxScale": 2300,
"type": "Group Layer",
"supportsDynamicLegends": false
},
{
"id": 21,
"name": "DEM_Work_MG5_2m_WEB.tif",
"parentLayerId": 20,
"defaultVisibility": true,
"subLayerIds": null,
"minScale": 0,
"maxScale": 0,
"type": "Raster Layer",
"supportsDynamicLegends": true
},
{
"id": 22,
"name": "FIN_DEM_5_WEB.tif",
"parentLayerId": 20,
"defaultVisibility": true,
"subLayerIds": null,
"minScale": 0,
"maxScale": 0,
"type": "Raster Layer",
"supportsDynamicLegends": true
},
{
"id": 23,
"name": "Coast / Land lines",
"parentLayerId": -1,
"defaultVisibility": true,
"subLayerIds": [
24,
25,
26
],
"minScale": 0,
"maxScale": 0,
"type": "Group Layer",
"supportsDynamicLegends": false
},
{
"id": 24,
"name": "Land_Line Low ZL",
"parentLayerId": 23,
"defaultVisibility": true,
"subLayerIds": null,
"minScale": 2500000,
"maxScale": 1000000,
"type": "Feature Layer",
"geometryType": "esriGeometryPolyline",
"supportsDynamicLegends": true
},
{
"id": 25,
"name": "Land_Line Mid ZL",
"parentLayerId": 23,
"defaultVisibility": true,
"subLayerIds": null,
"minScale": 600000,
"maxScale": 200000,
"type": "Feature Layer",
"geometryType": "esriGeometryPolyline",
"supportsDynamicLegends": true
},
{
"id": 26,
"name": "Land_Line high ZL",
"parentLayerId": 23,
"defaultVisibility": true,
"subLayerIds": null,
"minScale": 150000,
"maxScale": 1000,
"type": "Feature Layer",
"geometryType": "esriGeometryPolyline",
"supportsDynamicLegends": true
},
{
"id": 27,
"name": "Hillshades",
"parentLayerId": -1,
"defaultVisibility": true,
"subLayerIds": [
28,
29
],
"minScale": 2500000,
"maxScale": 2300,
"type": "Group Layer",
"supportsDynamicLegends": false
},
{
"id": 28,
"name": "DEM_HS_MG5_2m_WEB.tif",
"parentLayerId": 27,
"defaultVisibility": true,
"subLayerIds": null,
"minScale": 0,
"maxScale": 0,
"type": "Raster Layer",
"supportsDynamicLegends": true
},
{
"id": 29,
"name": "FIN_hs_25_180_CL_WEB.tif",
"parentLayerId": 27,
"defaultVisibility": true,
"subLayerIds": null,
"minScale": 0,
"maxScale": 0,
"type": "Raster Layer",
"supportsDynamicLegends": true
},
{
"id": 30,
"name": "bathy_classes",
"parentLayerId": -1,
"defaultVisibility": true,
"subLayerIds": null,
"minScale": 2500000,
"maxScale": 0,
"type": "Feature Layer",
"geometryType": "esriGeometryPolygon",
"supportsDynamicLegends": true
},
{
"id": 31,
"name": "Land_PRJ",
"parentLayerId": -1,
"defaultVisibility": true,
"subLayerIds": null,
"minScale": 1200000,
"maxScale": 0,
"type": "Feature Layer",
"geometryType": "esriGeometryPolygon",
"supportsDynamicLegends": true
}
],
"tables": [],
"spatialReference": {
"wkid": 102100,
"latestWkid": 3857,
"xyTolerance": 0.001,
"zTolerance": 0.001,
"mTolerance": 0.001,
"falseX": -20037700,
"falseY": -30241100,
"xyUnits": 10000,
"falseZ": -100000,
"zUnits": 10000,
"falseM": -100000,
"mUnits": 10000
},
"singleFusedMapCache": true,
"tileInfo": {
"rows": 256,
"cols": 256,
"dpi": 96,
"format": "Mixed",
"compressionQuality": 75,
"origin": {
"x": -2.0037508342787E7,
"y": 2.0037508342787E7
},
"spatialReference": {
"wkid": 102100,
"latestWkid": 3857,
"xyTolerance": 0.001,
"zTolerance": 0.001,
"mTolerance": 0.001,
"falseX": -20037700,
"falseY": -30241100,
"xyUnits": 1.4892314192838538E8,
"falseZ": -100000,
"zUnits": 10000,
"falseM": -100000,
"mUnits": 10000
},
"lods": [
{
"level": 0,
"resolution": 156543.033928,
"scale": 5.91657527591555E8
},
{
"level": 1,
"resolution": 78271.5169639999,
"scale": 2.95828763795777E8
},
{
"level": 2,
"resolution": 39135.7584820001,
"scale": 1.47914381897889E8
},
{
"level": 3,
"resolution": 19567.8792409999,
"scale": 7.3957190948944E7
},
{
"level": 4,
"resolution": 9783.93962049996,
"scale": 3.6978595474472E7
},
{
"level": 5,
"resolution": 4891.96981024998,
"scale": 1.8489297737236E7
},
{
"level": 6,
"resolution": 2445.98490512499,
"scale": 9244648.868618
},
{
"level": 7,
"resolution": 1222.99245256249,
"scale": 4622324.434309
},
{
"level": 8,
"resolution": 611.49622628138,
"scale": 2311162.217155
},
{
"level": 9,
"resolution": 305.748113140558,
"scale": 1155581.108577
},
{
"level": 10,
"resolution": 152.874056570411,
"scale": 577790.554289
},
{
"level": 11,
"resolution": 76.4370282850732,
"scale": 288895.277144
},
{
"level": 12,
"resolution": 38.2185141425366,
"scale": 144447.638572
},
{
"level": 13,
"resolution": 19.1092570712683,
"scale": 72223.819286
},
{
"level": 14,
"resolution": 9.55462853563415,
"scale": 36111.909643
},
{
"level": 15,
"resolution": 4.77731426794937,
"scale": 18055.954822
},
{
"level": 16,
"resolution": 2.38865713397468,
"scale": 9027.977411
},
{
"level": 17,
"resolution": 1.19432856685505,
"scale": 4513.988705
},
{
"level": 18,
"resolution": 0.597164283559817,
"scale": 2256.994353
},
{
"level": 19,
"resolution": 0.298582141647617,
"scale": 1128.497176
},
{
"level": 20,
"resolution": 0.14929107082380833,
"scale": 564.248588
},
{
"level": 21,
"resolution": 0.07464553541190416,
"scale": 282.124294
},
{
"level": 22,
"resolution": 0.03732276770595208,
"scale": 141.062147
},
{
"level": 23,
"resolution": 0.01866138385297604,
"scale": 70.5310735
}
]
},
"storageInfo": {
"storageFormat": "esriMapCacheStorageModeCompactV2",
"packetSize": 128
},
"initialExtent": {
"xmin": -1.445066184486045E7,
"ymin": 6480953.106581982,
"xmax": -1.3858122001593791E7,
"ymax": 6987883.478169246,
"spatialReference": {
"cs": "pcs",
"wkid": 102100
}
},
"fullExtent": {
"xmin": -1.4471557228967188E7,
"ymin": 6375888.395199999,
"xmax": -1.3697372509000001E7,
"ymax": 6993419.702976462,
"spatialReference": {
"cs": "pcs",
"wkid": 102100
}
},
"datesInUnknownTimezone": false,
"minScale": 4622324.434309,
"maxScale": 564.248588,
"minLOD": 7,
"maxLOD": 20,
"units": "esriMeters",
"supportedImageFormatTypes": "PNG32,PNG24,PNG,JPG,DIB,TIFF,EMF,PS,PDF,GIF,SVG,SVGZ,BMP",
"documentInfo": {
"Title": "Hakai_Topographic_test",
"Author": "",
"Comments": " Basemap map package for ARC Online. Hakai Topographic.<\/SPAN><\/P><\/DIV><\/DIV><\/DIV>",
"Subject": "Hakai Topographic Map Package",
"Category": "",
"Version": "2.9.0",
"AntialiasingMode": "Fast",
"TextAntialiasingMode": "Force",
"Keywords": "Hakai,topographic,topography,land,contour,river,calvert,water,basemap"
},
"supportsQueryDomains": true,
"capabilities": "Map,Query,Data",
"supportedQueryFormats": "JSON, geoJSON, PBF",
"exportTilesAllowed": true,
"maxExportTilesCount": 100000,
"referenceScale": 0.0,
"datumTransformations": [
{
"geoTransforms": [
{
"wkid": 108190,
"latestWkid": 108190,
"transformForward": true,
"name": "WGS_1984_(ITRF00)_To_NAD_1983"
}
]
},
{
"geoTransforms": [
{
"wkid": 108190,
"latestWkid": 108190,
"transformForward": false,
"name": "WGS_1984_(ITRF00)_To_NAD_1983"
}
]
}
],
"supportsDatumTransformation": true,
"floorAwareMapProperties": {
"defaultFloorFilterSettings": {"isEnabled": true}
},
"archivingInfo": {"supportsHistoricMoment": false},
"supportsClipping": true,
"supportsSpatialFilter": true,
"supportsTimeRelation": true,
"supportsQueryDataElements": true,
"mapUnits": {"uwkid": 9001},
"maxRecordCount": 2000,
"maxImageHeight": 4096,
"maxImageWidth": 4096,
"supportedExtensions": "",
"resampling": false,
"serviceItemId": "ea974c3b1629424eacf82a51ebd15e8e"
}