{
 "currentVersion": 11.3,
 "serviceDescription": "BigBar2022RPASMos",
 "name": "BigBar2022RPASMos",
 "description": "",
 "extent": {
  "xmin": -1.3599856135169936E7,
  "ymin": 6543916.61656665,
  "xmax": -1.355845064944039E7,
  "ymax": 6661766.843242264,
  "spatialReference": {
   "wkid": 102100,
   "latestWkid": 3857
  }
 },
 "initialExtent": {
  "xmin": -1.3599856135169936E7,
  "ymin": 6543916.61656665,
  "xmax": -1.355845064944039E7,
  "ymax": 6661766.843242264,
  "spatialReference": {
   "wkid": 102100,
   "latestWkid": 3857
  }
 },
 "fullExtent": {
  "xmin": -1.3599856135169936E7,
  "ymin": 6543916.61656665,
  "xmax": -1.355845064944039E7,
  "ymax": 6661766.843242264,
  "spatialReference": {
   "wkid": 102100,
   "latestWkid": 3857
  }
 },
 "sortableFields": "MinPS,MaxPS,LowPS,HighPS,CenterX,CenterY,ZOrder,Shape_Length,Shape_Area",
 "bandCount": 4,
 "pixelType": "U16",
 "minValues": [
  7,
  8,
  12,
  255
 ],
 "maxValues": [
  250,
  254,
  255,
  255
 ],
 "meanValues": [
  124.87070726418666,
  122.98086198150096,
  117.54072496711565,
  255
 ],
 "stdvValues": [
  30.787575027408,
  28.801202697688556,
  25.78225029238125,
  0
 ],
 "hasMultidimensions": false,
 "pixelSizeX": 0.043569999746977305,
 "pixelSizeY": 0.04356999974697828,
 "meanPixelSize": 0.0435699997469778,
 "datasetFormat": "AMD",
 "uncompressedSize": 20563790849664,
 "blockWidth": 2048,
 "blockHeight": 256,
 "compressionType": "None",
 "bandNames": [
  "Band_1",
  "Band_2",
  "Band_3",
  "Band_4"
 ],
 "allowCopy": true,
 "allowAnalysis": true,
 "itemAccess": false,
 "inspectionCapabilities": "",
 "minPixelSize": 4.233341800016934,
 "maxPixelSize": 8466.683600033868,
 "copyrightText": "",
 "serviceDataType": "esriImageServiceDataTypeGeneric",
 "serviceSourceType": "esriImageServiceSourceTypeMosaicDataset",
 "objectIdField": "OBJECTID",
 "fields": [
  {
   "name": "OBJECTID",
   "type": "esriFieldTypeOID",
   "alias": "OBJECTID",
   "domain": null
  },
  {
   "name": "Shape",
   "type": "esriFieldTypeGeometry",
   "alias": "Shape",
   "domain": null
  },
  {
   "name": "Name",
   "type": "esriFieldTypeString",
   "alias": "Name",
   "domain": null,
   "length": 200
  },
  {
   "name": "MinPS",
   "type": "esriFieldTypeDouble",
   "alias": "MinPS",
   "domain": null
  },
  {
   "name": "MaxPS",
   "type": "esriFieldTypeDouble",
   "alias": "MaxPS",
   "domain": null
  },
  {
   "name": "LowPS",
   "type": "esriFieldTypeDouble",
   "alias": "LowPS",
   "domain": null
  },
  {
   "name": "HighPS",
   "type": "esriFieldTypeDouble",
   "alias": "HighPS",
   "domain": null
  },
  {
   "name": "Category",
   "type": "esriFieldTypeInteger",
   "alias": "Category",
   "domain": {
    "type": "codedValue",
    "name": "MosaicCatalogItemCategoryDomain",
    "description": "Catalog item categories.",
    "codedValues": [
     {
      "name": "Unknown",
      "code": 0
     },
     {
      "name": "Primary",
      "code": 1
     },
     {
      "name": "Overview",
      "code": 2
     },
     {
      "name": "Unprocessed Overview",
      "code": 3
     },
     {
      "name": "Partial Overview",
      "code": 4
     },
     {
      "name": "Uploaded",
      "code": 253
     },
     {
      "name": "Incomplete",
      "code": 254
     },
     {
      "name": "Custom",
      "code": 255
     }
    ],
    "mergePolicy": "esriMPTDefaultValue",
    "splitPolicy": "esriSPTDefaultValue"
   }
  },
  {
   "name": "Tag",
   "type": "esriFieldTypeString",
   "alias": "Tag",
   "domain": null,
   "length": 100
  },
  {
   "name": "GroupName",
   "type": "esriFieldTypeString",
   "alias": "GroupName",
   "domain": null,
   "length": 100
  },
  {
   "name": "ProductName",
   "type": "esriFieldTypeString",
   "alias": "ProductName",
   "domain": null,
   "length": 100
  },
  {
   "name": "CenterX",
   "type": "esriFieldTypeDouble",
   "alias": "CenterX",
   "domain": null
  },
  {
   "name": "CenterY",
   "type": "esriFieldTypeDouble",
   "alias": "CenterY",
   "domain": null
  },
  {
   "name": "ZOrder",
   "type": "esriFieldTypeInteger",
   "alias": "ZOrder",
   "domain": null
  },
  {
   "name": "Shape_Length",
   "type": "esriFieldTypeDouble",
   "alias": "Shape_Length",
   "domain": null
  },
  {
   "name": "Shape_Area",
   "type": "esriFieldTypeDouble",
   "alias": "Shape_Area",
   "domain": null
  }
 ],
 "capabilities": "Image,Metadata,Mensuration,Catalog,Download",
 "defaultMosaicMethod": "Northwest",
 "allowedMosaicMethods": "NorthWest,Center,LockRaster,ByAttribute,Nadir,Viewpoint,Seamline,None",
 "sortField": "",
 "sortValue": null,
 "sortAscending": true,
 "mosaicOperator": "Last",
 "maxDownloadSizeLimit": 2048,
 "defaultCompressionQuality": 75,
 "defaultResamplingMethod": "Bilinear",
 "maxImageHeight": 4100,
 "maxImageWidth": 15000,
 "maxRecordCount": 1000,
 "maxDownloadImageCount": 20,
 "maxMosaicImageCount": 20,
 "singleFusedMapCache": true,
 "tileInfo": {
  "rows": 256,
  "cols": 256,
  "dpi": 96,
  "format": "MIXED",
  "compressionQuality": 75,
  "origin": {
   "x": -20037700,
   "y": 30241100
  },
  "spatialReference": {
   "wkid": 102100,
   "latestWkid": 3857
  },
  "lods": [
   {
    "level": 0,
    "resolution": 132291.9312505292,
    "scale": 500000000
   },
   {
    "level": 1,
    "resolution": 66145.9656252646,
    "scale": 250000000
   },
   {
    "level": 2,
    "resolution": 33072.9828126323,
    "scale": 125000000
   },
   {
    "level": 3,
    "resolution": 16933.367200067736,
    "scale": 64000000
   },
   {
    "level": 4,
    "resolution": 8466.683600033868,
    "scale": 32000000
   },
   {
    "level": 5,
    "resolution": 4233.341800016934,
    "scale": 16000000
   },
   {
    "level": 6,
    "resolution": 2116.670900008467,
    "scale": 8000000
   },
   {
    "level": 7,
    "resolution": 1058.3354500042335,
    "scale": 4000000
   },
   {
    "level": 8,
    "resolution": 529.1677250021168,
    "scale": 2000000
   },
   {
    "level": 9,
    "resolution": 264.5838625010584,
    "scale": 1000000
   },
   {
    "level": 10,
    "resolution": 132.2919312505292,
    "scale": 500000
   },
   {
    "level": 11,
    "resolution": 66.1459656252646,
    "scale": 250000
   },
   {
    "level": 12,
    "resolution": 33.0729828126323,
    "scale": 125000
   },
   {
    "level": 13,
    "resolution": 16.933367200067735,
    "scale": 64000
   },
   {
    "level": 14,
    "resolution": 8.466683600033868,
    "scale": 32000
   },
   {
    "level": 15,
    "resolution": 4.233341800016934,
    "scale": 16000
   },
   {
    "level": 16,
    "resolution": 2.116670900008467,
    "scale": 8000
   },
   {
    "level": 17,
    "resolution": 1.0583354500042335,
    "scale": 4000
   },
   {
    "level": 18,
    "resolution": 0.5291677250021167,
    "scale": 2000
   },
   {
    "level": 19,
    "resolution": 0.26458386250105836,
    "scale": 1000
   },
   {
    "level": 20,
    "resolution": 0.13229193125052918,
    "scale": 500
   },
   {
    "level": 21,
    "resolution": 0.06614596562526459,
    "scale": 250
   },
   {
    "level": 22,
    "resolution": 0.033072982812632296,
    "scale": 125
   }
  ]
 },
 "storageInfo": {
  "storageFormat": "esriMapCacheStorageModeCompactV2",
  "packetSize": 128
 },
 "cacheType": "Map",
 "allowRasterFunction": true,
 "rasterFunctionInfos": [
  {
   "name": "None",
   "description": "A No-Op Function.",
   "help": ""
  }
 ],
 "rasterTypeInfos": [
  {
   "name": "Raster Dataset",
   "description": "Supports all ArcGIS Raster Datasets",
   "help": ""
  }
 ],
 "mensurationCapabilities": "Basic",
 "hasHistograms": true,
 "hasColormap": false,
 "hasRasterAttributeTable": false,
 "minScale": 32000000,
 "maxScale": 16000,
 "exportTilesAllowed": false,
 "supportsStatistics": true,
 "supportsAdvancedQueries": true,
 "editFieldsInfo": null,
 "ownershipBasedAccessControlForRasters": null,
 "allowComputeTiePoints": false,
 "useStandardizedQueries": true,
 "advancedQueryCapabilities": {
  "useStandardizedQueries": true,
  "supportsStatistics": true,
  "supportsOrderBy": true,
  "supportsDistinct": true,
  "supportsPagination": true
 },
 "spatialReference": {
  "wkid": 102100,
  "latestWkid": 3857
 }
}
