{
 "currentVersion": 11.3,
 "serviceDescription": "ElliotOrthos_v2",
 "name": "ElliotOrthos_v2",
 "description": "",
 "extent": {
  "xmin": -1.3892652354600001E7,
  "ymin": 6594625.178400013,
  "xmax": -1.386706175460001E7,
  "ymax": 6620009.478400003,
  "spatialReference": {
   "wkid": 102100,
   "latestWkid": 3857
  }
 },
 "initialExtent": {
  "xmin": -1.3892652354600001E7,
  "ymin": 6594625.178400013,
  "xmax": -1.386706175460001E7,
  "ymax": 6620009.478400003,
  "spatialReference": {
   "wkid": 102100,
   "latestWkid": 3857
  }
 },
 "fullExtent": {
  "xmin": -1.3892652354600001E7,
  "ymin": 6594625.178400013,
  "xmax": -1.386706175460001E7,
  "ymax": 6620009.478400003,
  "spatialReference": {
   "wkid": 102100,
   "latestWkid": 3857
  }
 },
 "sortableFields": "MinPS,MaxPS,LowPS,HighPS,CenterX,CenterY,ZOrder,Shape_Length,Shape_Area",
 "bandCount": 3,
 "pixelType": "U8",
 "minValues": [
  0,
  2,
  14
 ],
 "maxValues": [
  255,
  255,
  255
 ],
 "meanValues": [
  100.56853810363897,
  121.78391484382855,
  130.9149215257909
 ],
 "stdvValues": [
  73.05262464707745,
  72.23287470207781,
  73.01352051630134
 ],
 "hasMultidimensions": false,
 "pixelSizeX": 0.09999999999996215,
 "pixelSizeY": 0.09999999999996258,
 "meanPixelSize": 0.09999999999996237,
 "datasetFormat": "AMD",
 "uncompressedSize": 194879840274,
 "blockWidth": 2048,
 "blockHeight": 256,
 "compressionType": "None",
 "bandNames": [
  "Band_1",
  "Band_2",
  "Band_3"
 ],
 "allowCopy": true,
 "allowAnalysis": true,
 "itemAccess": false,
 "inspectionCapabilities": "",
 "minPixelSize": 1.1940669714672765,
 "maxPixelSize": 2445.9849398865467,
 "copyrightText": "",
 "serviceDataType": "esriImageServiceDataTypeRGB",
 "serviceSourceType": "esriImageServiceSourceTypeMosaicDataset",
 "objectIdField": "OBJECTID",
 "fields": [
  {
   "name": "OBJECTID",
   "type": "esriFieldTypeOID",
   "alias": "OBJECTID",
   "domain": null
  },
  {
   "name": "Shape",
   "type": "esriFieldTypeGeometry",
   "alias": "Shape",
   "domain": null
  },
  {
   "name": "Name",
   "type": "esriFieldTypeString",
   "alias": "Name",
   "domain": null,
   "length": 200
  },
  {
   "name": "MinPS",
   "type": "esriFieldTypeDouble",
   "alias": "MinPS",
   "domain": null
  },
  {
   "name": "MaxPS",
   "type": "esriFieldTypeDouble",
   "alias": "MaxPS",
   "domain": null
  },
  {
   "name": "LowPS",
   "type": "esriFieldTypeDouble",
   "alias": "LowPS",
   "domain": null
  },
  {
   "name": "HighPS",
   "type": "esriFieldTypeDouble",
   "alias": "HighPS",
   "domain": null
  },
  {
   "name": "Category",
   "type": "esriFieldTypeInteger",
   "alias": "Category",
   "domain": {
    "type": "codedValue",
    "name": "MosaicCatalogItemCategoryDomain",
    "description": "Catalog item categories.",
    "codedValues": [
     {
      "name": "Unknown",
      "code": 0
     },
     {
      "name": "Primary",
      "code": 1
     },
     {
      "name": "Overview",
      "code": 2
     },
     {
      "name": "Unprocessed Overview",
      "code": 3
     },
     {
      "name": "Partial Overview",
      "code": 4
     },
     {
      "name": "Uploaded",
      "code": 253
     },
     {
      "name": "Incomplete",
      "code": 254
     },
     {
      "name": "Custom",
      "code": 255
     }
    ],
    "mergePolicy": "esriMPTDefaultValue",
    "splitPolicy": "esriSPTDefaultValue"
   }
  },
  {
   "name": "Tag",
   "type": "esriFieldTypeString",
   "alias": "Tag",
   "domain": null,
   "length": 100
  },
  {
   "name": "GroupName",
   "type": "esriFieldTypeString",
   "alias": "GroupName",
   "domain": null,
   "length": 100
  },
  {
   "name": "ProductName",
   "type": "esriFieldTypeString",
   "alias": "ProductName",
   "domain": null,
   "length": 100
  },
  {
   "name": "CenterX",
   "type": "esriFieldTypeDouble",
   "alias": "CenterX",
   "domain": null
  },
  {
   "name": "CenterY",
   "type": "esriFieldTypeDouble",
   "alias": "CenterY",
   "domain": null
  },
  {
   "name": "ZOrder",
   "type": "esriFieldTypeInteger",
   "alias": "ZOrder",
   "domain": null
  },
  {
   "name": "Shape_Length",
   "type": "esriFieldTypeDouble",
   "alias": "Shape_Length",
   "domain": null
  },
  {
   "name": "Shape_Area",
   "type": "esriFieldTypeDouble",
   "alias": "Shape_Area",
   "domain": null
  }
 ],
 "capabilities": "Image,Metadata,Mensuration,Catalog,Download",
 "defaultMosaicMethod": "Northwest",
 "allowedMosaicMethods": "NorthWest,Center,LockRaster,ByAttribute,Nadir,Viewpoint,Seamline,None",
 "sortField": "",
 "sortValue": null,
 "sortAscending": true,
 "mosaicOperator": "First",
 "maxDownloadSizeLimit": 2048,
 "defaultCompressionQuality": 75,
 "defaultResamplingMethod": "Bilinear",
 "maxImageHeight": 4100,
 "maxImageWidth": 15000,
 "maxRecordCount": 1000,
 "maxDownloadImageCount": 20,
 "maxMosaicImageCount": 20,
 "singleFusedMapCache": true,
 "tileInfo": {
  "rows": 256,
  "cols": 256,
  "dpi": 96,
  "format": "MIXED",
  "compressionQuality": 75,
  "origin": {
   "x": -20037700,
   "y": 30241100
  },
  "spatialReference": {
   "wkid": 102100,
   "latestWkid": 3857
  },
  "lods": [
   {
    "level": 0,
    "resolution": 132291.9312505292,
    "scale": 500000000
   },
   {
    "level": 1,
    "resolution": 66145.9656252646,
    "scale": 250000000
   },
   {
    "level": 2,
    "resolution": 33072.9828126323,
    "scale": 125000000
   },
   {
    "level": 3,
    "resolution": 16933.367200067736,
    "scale": 64000000
   },
   {
    "level": 4,
    "resolution": 8466.683600033868,
    "scale": 32000000
   },
   {
    "level": 5,
    "resolution": 4891.969879773093,
    "scale": 18489298
   },
   {
    "level": 6,
    "resolution": 2445.9849398865467,
    "scale": 9244649
   },
   {
    "level": 7,
    "resolution": 1222.992337651342,
    "scale": 4622324
   },
   {
    "level": 8,
    "resolution": 611.496168825671,
    "scale": 2311162
   },
   {
    "level": 9,
    "resolution": 305.7480844128355,
    "scale": 1155581
   },
   {
    "level": 10,
    "resolution": 152.87390991448652,
    "scale": 577790
   },
   {
    "level": 11,
    "resolution": 76.43695495724326,
    "scale": 288895
   },
   {
    "level": 12,
    "resolution": 38.21834518669038,
    "scale": 144447
   },
   {
    "level": 13,
    "resolution": 19.109040301413938,
    "scale": 72223
   },
   {
    "level": 14,
    "resolution": 9.554387858775717,
    "scale": 36111
   },
   {
    "level": 15,
    "resolution": 4.777061637456608,
    "scale": 18055
   },
   {
    "level": 16,
    "resolution": 2.3883985267970536,
    "scale": 9027
   },
   {
    "level": 17,
    "resolution": 1.1940669714672763,
    "scale": 4513
   },
   {
    "level": 18,
    "resolution": 0.5969011938023876,
    "scale": 2256
   },
   {
    "level": 19,
    "resolution": 0.2984505969011938,
    "scale": 1128
   },
   {
    "level": 20,
    "resolution": 0.13229193125052918,
    "scale": 500
   },
   {
    "level": 21,
    "resolution": 0.06614596562526459,
    "scale": 250
   },
   {
    "level": 22,
    "resolution": 0.033072982812632296,
    "scale": 125
   },
   {
    "level": 23,
    "resolution": 0.018520870375074085,
    "scale": 70
   }
  ]
 },
 "storageInfo": {
  "storageFormat": "esriMapCacheStorageModeCompactV2",
  "packetSize": 128
 },
 "cacheType": "Map",
 "allowRasterFunction": true,
 "rasterFunctionInfos": [
  {
   "name": "None",
   "description": "",
   "help": ""
  }
 ],
 "rasterTypeInfos": [
  {
   "name": "Raster Dataset",
   "description": "Supports all ArcGIS Raster Datasets",
   "help": ""
  }
 ],
 "mensurationCapabilities": "Basic",
 "hasHistograms": true,
 "hasColormap": false,
 "hasRasterAttributeTable": false,
 "minScale": 9244649,
 "maxScale": 4513,
 "exportTilesAllowed": false,
 "supportsStatistics": true,
 "supportsAdvancedQueries": true,
 "editFieldsInfo": null,
 "ownershipBasedAccessControlForRasters": null,
 "allowComputeTiePoints": false,
 "useStandardizedQueries": true,
 "advancedQueryCapabilities": {
  "useStandardizedQueries": true,
  "supportsStatistics": true,
  "supportsOrderBy": true,
  "supportsDistinct": true,
  "supportsPagination": true
 },
 "spatialReference": {
  "wkid": 102100,
  "latestWkid": 3857
 }
}
