{
 "currentVersion": 11.3,
 "serviceDescription": "FrechBarTerrain_2022",
 "name": "FrechBarTerrain_2022",
 "description": "",
 "extent": {
  "xmin": -1.3599894389635755E7,
  "ymin": 6659056.789256561,
  "xmax": -1.3597497211805755E7,
  "ymax": 6661806.14339656,
  "spatialReference": {
   "wkid": 102100,
   "latestWkid": 3857
  }
 },
 "initialExtent": {
  "xmin": -1.3599894389635755E7,
  "ymin": 6659056.789256561,
  "xmax": -1.3597497211805755E7,
  "ymax": 6661806.14339656,
  "spatialReference": {
   "wkid": 102100,
   "latestWkid": 3857
  }
 },
 "fullExtent": {
  "xmin": -1.3599894389635755E7,
  "ymin": 6659056.789256561,
  "xmax": -1.3597497211805755E7,
  "ymax": 6661806.14339656,
  "spatialReference": {
   "wkid": 102100,
   "latestWkid": 3857
  }
 },
 "sortableFields": "MinPS,MaxPS,LowPS,HighPS,CenterX,CenterY,ZOrder,Shape_Length,Shape_Area",
 "bandCount": 3,
 "pixelType": "U8",
 "minValues": [
  0,
  0,
  0
 ],
 "maxValues": [
  238,
  238,
  238
 ],
 "meanValues": [
  106.53599116846,
  105.65765453534,
  90.246008568283
 ],
 "stdvValues": [
  94.574462452382,
  93.739618845053,
  85.129449991698
 ],
 "hasMultidimensions": false,
 "pixelSizeX": 0.04356999999999049,
 "pixelSizeY": 0.043569999999991865,
 "meanPixelSize": 0.04356999999999118,
 "datasetFormat": "TIFF",
 "uncompressedSize": 10415072454,
 "blockWidth": 128,
 "blockHeight": 128,
 "compressionType": "LZW",
 "bandNames": [
  "Band_1",
  "Band_2",
  "Band_3"
 ],
 "allowCopy": true,
 "allowAnalysis": true,
 "itemAccess": false,
 "inspectionCapabilities": "",
 "noDataValue": 0,
 "noDataValues": [
  0,
  0,
  0
 ],
 "minPixelSize": 0.13229193125052918,
 "maxPixelSize": 8.466683600033868,
 "copyrightText": "",
 "serviceDataType": "esriImageServiceDataTypeProcessed",
 "serviceSourceType": "esriImageServiceSourceTypeDataset",
 "objectIdField": "",
 "fields": [],
 "capabilities": "Image,Metadata,Mensuration",
 "defaultMosaicMethod": "Center",
 "allowedMosaicMethods": "",
 "sortField": "",
 "sortValue": null,
 "sortAscending": true,
 "mosaicOperator": "Last",
 "defaultCompressionQuality": 75,
 "defaultResamplingMethod": "Bilinear",
 "maxImageHeight": 4100,
 "maxImageWidth": 15000,
 "singleFusedMapCache": true,
 "tileInfo": {
  "rows": 256,
  "cols": 256,
  "dpi": 96,
  "format": "MIXED",
  "compressionQuality": 75,
  "origin": {
   "x": -20037700,
   "y": 30241100
  },
  "spatialReference": {
   "wkid": 102100,
   "latestWkid": 3857
  },
  "lods": [
   {
    "level": 0,
    "resolution": 66145.9656252646,
    "scale": 250000000
   },
   {
    "level": 1,
    "resolution": 33072.9828126323,
    "scale": 125000000
   },
   {
    "level": 2,
    "resolution": 16933.367200067736,
    "scale": 64000000
   },
   {
    "level": 3,
    "resolution": 8466.683600033868,
    "scale": 32000000
   },
   {
    "level": 4,
    "resolution": 4233.341800016934,
    "scale": 16000000
   },
   {
    "level": 5,
    "resolution": 2116.670900008467,
    "scale": 8000000
   },
   {
    "level": 6,
    "resolution": 1058.3354500042335,
    "scale": 4000000
   },
   {
    "level": 7,
    "resolution": 529.1677250021168,
    "scale": 2000000
   },
   {
    "level": 8,
    "resolution": 264.5838625010584,
    "scale": 1000000
   },
   {
    "level": 9,
    "resolution": 132.2919312505292,
    "scale": 500000
   },
   {
    "level": 10,
    "resolution": 66.1459656252646,
    "scale": 250000
   },
   {
    "level": 11,
    "resolution": 33.0729828126323,
    "scale": 125000
   },
   {
    "level": 12,
    "resolution": 16.933367200067735,
    "scale": 64000
   },
   {
    "level": 13,
    "resolution": 8.466683600033868,
    "scale": 32000
   },
   {
    "level": 14,
    "resolution": 4.233341800016934,
    "scale": 16000
   },
   {
    "level": 15,
    "resolution": 2.116670900008467,
    "scale": 8000
   },
   {
    "level": 16,
    "resolution": 1.0583354500042335,
    "scale": 4000
   },
   {
    "level": 17,
    "resolution": 0.5291677250021167,
    "scale": 2000
   },
   {
    "level": 18,
    "resolution": 0.26458386250105836,
    "scale": 1000
   },
   {
    "level": 19,
    "resolution": 0.13229193125052918,
    "scale": 500
   },
   {
    "level": 20,
    "resolution": 0.06614596562526459,
    "scale": 250
   },
   {
    "level": 21,
    "resolution": 0.033072982812632296,
    "scale": 125
   }
  ]
 },
 "storageInfo": {
  "storageFormat": "esriMapCacheStorageModeCompactV2",
  "packetSize": 128
 },
 "cacheType": "Map",
 "allowRasterFunction": true,
 "rasterFunctionInfos": [
  {
   "name": "None",
   "description": "",
   "help": ""
  }
 ],
 "rasterTypeInfos": [
  {
   "name": "Raster Dataset",
   "description": "Supports all ArcGIS Raster Datasets",
   "help": ""
  }
 ],
 "mensurationCapabilities": "Basic",
 "hasHistograms": true,
 "hasColormap": false,
 "hasRasterAttributeTable": false,
 "minScale": 32000,
 "maxScale": 500,
 "exportTilesAllowed": false,
 "supportsStatistics": false,
 "supportsAdvancedQueries": false,
 "editFieldsInfo": null,
 "ownershipBasedAccessControlForRasters": null,
 "allowComputeTiePoints": false,
 "useStandardizedQueries": true,
 "advancedQueryCapabilities": {
  "useStandardizedQueries": true,
  "supportsStatistics": false,
  "supportsOrderBy": false,
  "supportsDistinct": false,
  "supportsPagination": false
 },
 "spatialReference": {
  "wkid": 102100,
  "latestWkid": 3857
 }
}
