{ "currentVersion": 11.3, "serviceDescription": "
EQUIPMENT:<\/SPAN><\/P> \tNORBIT iWBMS - MULTIBEAM<\/SPAN><\/P> \tRESON 7125 - MULTIBEAM<\/SPAN><\/P> \tTRIMBLE AT1675-540TS - GPS RECIEVER<\/SPAN><\/P> \tAPPLANIX SURFMASTER - IMU *PAIRED WITH THE RESON<\/SPAN><\/P> \tAPPLANIX WAVEMASTER - IMU *PAIRED WITH THE NORBIT<\/SPAN><\/P> <\/P> POSITIONING:<\/SPAN><\/P> \tHORIZONTAL: NAD83 CSRS<\/SPAN><\/P> \tVERTICAL:<\/SPAN><\/P> \t\tReal-Time: Ellipsoidal (GRS80)<\/SPAN><\/P> \t\tPost-Processed: Orthometric (CGG2013a)<\/SPAN><\/P> \tMETHODS: PP-RTX<\/SPAN><\/P> <\/P> \t*REAL TIME RTK WAS COLLECTED, HOWEVER GIVEN THE INTERMITTANCY OF CONNECTION, PP-RTX<\/SPAN><\/P> \tWAS APPLIED TO THE DATA.<\/SPAN><\/P> <\/P> FILE FORMATS:<\/SPAN><\/P> \tNORBIT DATA WAS COLLECTED BOTH AS QINSY DB FILES, AND IN NORBIT DCT SOFTWARE<\/SPAN><\/P> \tAS S7K FILES. THE S7K WERE THE PRIMARY DATA USED IN THE QIMERA PROJECT.<\/SPAN><\/P> <\/P> \tINS DATA WERE EXPORTED FROM POSPAC AS SBET FORMAT FILES.<\/SPAN><\/P> <\/P> DIRECTORY STRUCTURE:<\/SPAN><\/P> <\/P> INS<\/SPAN><\/P> \tPROJECT<\/SPAN><\/P> \t\tPOSPAC projects<\/SPAN><\/P> \tRESON<\/SPAN><\/P> \t\tRaw navigation files from the Reson<\/SPAN><\/P> \tRaw Navigation Files<\/SPAN><\/P> QIMERA<\/SPAN><\/P> \tQimera Project<\/SPAN><\/P> QINSY<\/SPAN><\/P> \tQinsy Projects - The first project named 'test' corrupted in the field, so a new one named SFU_MBES was created.<\/SPAN><\/P> RASTER_BACKGROUND<\/SPAN><\/P> \tBasemaps of the survey site<\/SPAN><\/P> WBMS<\/SPAN><\/P> \tS7K Files recorded via Norbit DCT<\/SPAN><\/P><\/DIV><\/DIV><\/DIV>",
"name": "Geospatial/FraserCanyon_MBES",
"description": "",
"extent": {
"xmin": -1.3625119033599999E7,
"ymin": 6369658.396189213,
"xmax": -1.3512978546700502E7,
"ymax": 6860054.8389,
"spatialReference": {
"wkid": 102100,
"latestWkid": 3857
}
},
"initialExtent": {
"xmin": -1.3625119033599999E7,
"ymin": 6369658.396189213,
"xmax": -1.3512978546700502E7,
"ymax": 6860054.8389,
"spatialReference": {
"wkid": 102100,
"latestWkid": 3857
}
},
"fullExtent": {
"xmin": -1.3625119033599999E7,
"ymin": 6369658.396189213,
"xmax": -1.3512978546700502E7,
"ymax": 6860054.8389,
"spatialReference": {
"wkid": 102100,
"latestWkid": 3857
}
},
"sortableFields": "MinPS,MaxPS,LowPS,HighPS,CenterX,CenterY,ZOrder,Shape_Length,Shape_Area",
"bandCount": 1,
"pixelType": "F32",
"minValues": [
0
],
"maxValues": [
178
],
"meanValues": [
55.25617525876788
],
"stdvValues": [
70.43312875426025
],
"hasMultidimensions": false,
"pixelSizeX": 0.4999999415888862,
"pixelSizeY": 0.4999999415888848,
"meanPixelSize": 0.4999999415888855,
"datasetFormat": "AMD",
"uncompressedSize": 879892939332,
"blockWidth": 2048,
"blockHeight": 256,
"compressionType": "None",
"bandNames": [
"Band_1"
],
"allowCopy": true,
"allowAnalysis": true,
"itemAccess": false,
"inspectionCapabilities": "",
"minPixelSize": 0,
"maxPixelSize": 0,
"copyrightText": "Hakai Institute and SFU River Dynamics Laboratory",
"serviceDataType": "esriImageServiceDataTypeGeneric",
"serviceSourceType": "esriImageServiceSourceTypeMosaicDataset",
"objectIdField": "OBJECTID",
"fields": [
{
"name": "OBJECTID",
"type": "esriFieldTypeOID",
"alias": "OBJECTID",
"domain": null
},
{
"name": "Shape",
"type": "esriFieldTypeGeometry",
"alias": "Shape",
"domain": null
},
{
"name": "Name",
"type": "esriFieldTypeString",
"alias": "Name",
"domain": null,
"length": 200
},
{
"name": "MinPS",
"type": "esriFieldTypeDouble",
"alias": "MinPS",
"domain": null
},
{
"name": "MaxPS",
"type": "esriFieldTypeDouble",
"alias": "MaxPS",
"domain": null
},
{
"name": "LowPS",
"type": "esriFieldTypeDouble",
"alias": "LowPS",
"domain": null
},
{
"name": "HighPS",
"type": "esriFieldTypeDouble",
"alias": "HighPS",
"domain": null
},
{
"name": "Category",
"type": "esriFieldTypeInteger",
"alias": "Category",
"domain": {
"type": "codedValue",
"name": "MosaicCatalogItemCategoryDomain",
"description": "Catalog item categories.",
"codedValues": [
{
"name": "Unknown",
"code": 0
},
{
"name": "Primary",
"code": 1
},
{
"name": "Overview",
"code": 2
},
{
"name": "Unprocessed Overview",
"code": 3
},
{
"name": "Partial Overview",
"code": 4
},
{
"name": "Inactive",
"code": 5
},
{
"name": "Uploaded",
"code": 253
},
{
"name": "Incomplete",
"code": 254
},
{
"name": "Custom",
"code": 255
}
],
"mergePolicy": "esriMPTDefaultValue",
"splitPolicy": "esriSPTDefaultValue"
}
},
{
"name": "Tag",
"type": "esriFieldTypeString",
"alias": "Tag",
"domain": null,
"length": 100
},
{
"name": "GroupName",
"type": "esriFieldTypeString",
"alias": "GroupName",
"domain": null,
"length": 100
},
{
"name": "ProductName",
"type": "esriFieldTypeString",
"alias": "ProductName",
"domain": null,
"length": 100
},
{
"name": "CenterX",
"type": "esriFieldTypeDouble",
"alias": "CenterX",
"domain": null
},
{
"name": "CenterY",
"type": "esriFieldTypeDouble",
"alias": "CenterY",
"domain": null
},
{
"name": "ZOrder",
"type": "esriFieldTypeInteger",
"alias": "ZOrder",
"domain": null
},
{
"name": "Shape_Length",
"type": "esriFieldTypeDouble",
"alias": "Shape_Length",
"domain": null
},
{
"name": "Shape_Area",
"type": "esriFieldTypeDouble",
"alias": "Shape_Area",
"domain": null
}
],
"capabilities": "Image,Metadata,Catalog",
"defaultMosaicMethod": "Northwest",
"allowedMosaicMethods": "NorthWest,Center,LockRaster,ByAttribute,Nadir,Viewpoint,Seamline,None",
"sortField": "",
"sortValue": null,
"sortAscending": true,
"mosaicOperator": "First",
"maxDownloadSizeLimit": 2048,
"defaultCompressionQuality": 75,
"defaultResamplingMethod": "Bilinear",
"maxImageHeight": 4100,
"maxImageWidth": 15000,
"maxRecordCount": 1000,
"maxDownloadImageCount": 20,
"maxMosaicImageCount": 20,
"allowRasterFunction": true,
"rasterFunctionInfos": [
{
"name": "MBES_blue_relief",
"description": "relief",
"help": ""
},
{
"name": "None",
"description": "Make a Raster or Raster Dataset into a Function Raster Dataset.",
"help": ""
}
],
"rasterTypeInfos": [
{
"name": "Raster Dataset",
"description": "Supports all ArcGIS Raster Datasets",
"help": ""
}
],
"mensurationCapabilities": "",
"hasHistograms": true,
"hasColormap": false,
"hasRasterAttributeTable": false,
"minScale": 0,
"maxScale": 0,
"exportTilesAllowed": false,
"supportsStatistics": true,
"supportsAdvancedQueries": true,
"editFieldsInfo": null,
"ownershipBasedAccessControlForRasters": null,
"allowComputeTiePoints": false,
"useStandardizedQueries": true,
"advancedQueryCapabilities": {
"useStandardizedQueries": true,
"supportsStatistics": true,
"supportsOrderBy": true,
"supportsDistinct": true,
"supportsPagination": true
},
"spatialReference": {
"wkid": 102100,
"latestWkid": 3857
}
}