{ "currentVersion": 11.3, "serviceDescription": "
This dataset is terrain relief of the Fraser River.<\/span>Airborne Lidar and Imagery data continued to be collected by the ACO <\/span>from 2016-2022<\/span>, in partnership with Dr. Jeremy Venditti (SFU) and Dr. Brian Menounos (UNBC, Hakai Institute). The goal of this data is to inventory and characterize the terrain throughout the Fraser River system to look at contemporary and historical landslide impact on flow dynamics, fish migration, and genetics of Fraser River Salmon. This work was underscored on November 1st, 2018 by the Big Bar Landslide, which partly blocked the Fraser River, creating a hydraulic barrier to salmon passage at moderate to high flows and significantly impeded salmon migration to the upper Fraser Basin.<\/span><\/p> <\/p> Lidar data (LAZ)- classified point cloud \u2013 digital surface model \u2013 digital terrain model. Image data (TIFF) \u2013 4 band orthophotos \u2013 RGB & NIR. Hyperspectral data (not always captured). A detailed project report with the summary of acquisition, processing, and overall hardware / software is available (PDF). Sensors and instrument breakdown: Inertial Navigation System: Manufacturer: Applanix (Canada), IMU Model: POS AV 510 IMAR, GNSS Model: Trimble AV39. Laser sensor: Riegl LMS-Q 780 long-range airborne laser scanner. Point density ranges per project and landscape from 1-12 points per square meter. Aerial cameras: two fully integrated Phaseone Industrial iXU-RS1000 medium format cameras, resolution: 100MP, lens: 50mm f/4.0 Rodenstock. Hyperspectral Sensor: manufacturer: Specim, model: AisaFENIX 384, spectral range: 380 - 2500 nm<\/span><\/p><\/div><\/div>",
"name": "Geospatial/FraserRiver_ACO_Elevation",
"description": "",
"extent": {
"xmin": -1.36332470306E7,
"ymin": 6342203.474600002,
"xmax": -1.35033880306E7,
"ymax": 6866958.474600002,
"spatialReference": {
"wkid": 102100,
"latestWkid": 3857
}
},
"initialExtent": {
"xmin": -1.36332470306E7,
"ymin": 6342203.474600002,
"xmax": -1.35033880306E7,
"ymax": 6866958.474600002,
"spatialReference": {
"wkid": 102100,
"latestWkid": 3857
}
},
"fullExtent": {
"xmin": -1.36332470306E7,
"ymin": 6342203.474600002,
"xmax": -1.35033880306E7,
"ymax": 6866958.474600002,
"spatialReference": {
"wkid": 102100,
"latestWkid": 3857
}
},
"sortableFields": "MinPS,MaxPS,LowPS,HighPS,CenterX,CenterY,ZOrder,Shape_Length,Shape_Area",
"bandCount": 1,
"pixelType": "F32",
"minValues": [
-197.1406470835209
],
"maxValues": [
2602.570486396551
],
"meanValues": [
803.1461096878742
],
"stdvValues": [
413.5708071309807
],
"hasMultidimensions": false,
"pixelSizeX": 1,
"pixelSizeY": 1,
"meanPixelSize": 1,
"datasetFormat": "AMD",
"uncompressedSize": 272576638180,
"blockWidth": 2048,
"blockHeight": 256,
"compressionType": "None",
"bandNames": [
"Band_1"
],
"allowCopy": true,
"allowAnalysis": true,
"itemAccess": false,
"inspectionCapabilities": "",
"minPixelSize": 0,
"maxPixelSize": 0,
"copyrightText": "Hakai Institute, UNBC, SFU",
"serviceDataType": "esriImageServiceDataTypeElevation",
"serviceSourceType": "esriImageServiceSourceTypeMosaicDataset",
"objectIdField": "OBJECTID",
"fields": [
{
"name": "OBJECTID",
"type": "esriFieldTypeOID",
"alias": "OBJECTID",
"domain": null
},
{
"name": "Shape",
"type": "esriFieldTypeGeometry",
"alias": "Shape",
"domain": null
},
{
"name": "Name",
"type": "esriFieldTypeString",
"alias": "Name",
"domain": null,
"length": 200
},
{
"name": "MinPS",
"type": "esriFieldTypeDouble",
"alias": "MinPS",
"domain": null
},
{
"name": "MaxPS",
"type": "esriFieldTypeDouble",
"alias": "MaxPS",
"domain": null
},
{
"name": "LowPS",
"type": "esriFieldTypeDouble",
"alias": "LowPS",
"domain": null
},
{
"name": "HighPS",
"type": "esriFieldTypeDouble",
"alias": "HighPS",
"domain": null
},
{
"name": "Category",
"type": "esriFieldTypeInteger",
"alias": "Category",
"domain": {
"type": "codedValue",
"name": "MosaicCatalogItemCategoryDomain",
"description": "Catalog item categories.",
"codedValues": [
{
"name": "Unknown",
"code": 0
},
{
"name": "Primary",
"code": 1
},
{
"name": "Overview",
"code": 2
},
{
"name": "Unprocessed Overview",
"code": 3
},
{
"name": "Partial Overview",
"code": 4
},
{
"name": "Inactive",
"code": 5
},
{
"name": "Uploaded",
"code": 253
},
{
"name": "Incomplete",
"code": 254
},
{
"name": "Custom",
"code": 255
}
],
"mergePolicy": "esriMPTDefaultValue",
"splitPolicy": "esriSPTDefaultValue"
}
},
{
"name": "Tag",
"type": "esriFieldTypeString",
"alias": "Tag",
"domain": null,
"length": 100
},
{
"name": "GroupName",
"type": "esriFieldTypeString",
"alias": "GroupName",
"domain": null,
"length": 100
},
{
"name": "ProductName",
"type": "esriFieldTypeString",
"alias": "ProductName",
"domain": null,
"length": 100
},
{
"name": "CenterX",
"type": "esriFieldTypeDouble",
"alias": "CenterX",
"domain": null
},
{
"name": "CenterY",
"type": "esriFieldTypeDouble",
"alias": "CenterY",
"domain": null
},
{
"name": "ZOrder",
"type": "esriFieldTypeInteger",
"alias": "ZOrder",
"domain": null
},
{
"name": "Shape_Length",
"type": "esriFieldTypeDouble",
"alias": "Shape_Length",
"domain": null
},
{
"name": "Shape_Area",
"type": "esriFieldTypeDouble",
"alias": "Shape_Area",
"domain": null
}
],
"capabilities": "Catalog,Mensuration,Image,Metadata",
"defaultMosaicMethod": "Northwest",
"allowedMosaicMethods": "NorthWest,Center,LockRaster,ByAttribute,Nadir,Viewpoint,Seamline,None",
"sortField": "",
"sortValue": null,
"sortAscending": true,
"mosaicOperator": "First",
"maxDownloadSizeLimit": 2048,
"defaultCompressionQuality": 75,
"defaultResamplingMethod": "Bilinear",
"maxImageHeight": 4100,
"maxImageWidth": 15000,
"maxRecordCount": 1000,
"maxDownloadImageCount": 20,
"maxMosaicImageCount": 20,
"allowRasterFunction": true,
"rasterFunctionInfos": [
{
"name": "Shaded Relief Number 11 Multidirectional",
"description": "A raster function template.",
"help": ""
},
{
"name": "None",
"description": "Make a Raster or Raster Dataset into a Function Raster Dataset.",
"help": ""
}
],
"rasterTypeInfos": [
{
"name": "Raster Dataset",
"description": "Supports all ArcGIS Raster Datasets",
"help": ""
}
],
"mensurationCapabilities": "",
"hasHistograms": true,
"hasColormap": false,
"hasRasterAttributeTable": false,
"minScale": 0,
"maxScale": 0,
"exportTilesAllowed": false,
"supportsStatistics": true,
"supportsAdvancedQueries": true,
"editFieldsInfo": null,
"ownershipBasedAccessControlForRasters": null,
"allowComputeTiePoints": false,
"useStandardizedQueries": true,
"advancedQueryCapabilities": {
"useStandardizedQueries": true,
"supportsStatistics": true,
"supportsOrderBy": true,
"supportsDistinct": true,
"supportsPagination": true
},
"spatialReference": {
"wkid": 102100,
"latestWkid": 3857
}
}