{
 "currentVersion": 11.3,
 "serviceDescription": "Hydrology_Watersheds/MAP_change",
 "name": "Hydrology_Watersheds/MAP_change",
 "description": "",
 "extent": {
  "xmin": -117.5208333499322,
  "ymin": 40.176310631109224,
  "xmax": -52.569863794406515,
  "ymax": 75.54907567533027,
  "spatialReference": {
   "wkid": 4326,
   "latestWkid": 4326
  }
 },
 "initialExtent": {
  "xmin": -117.5208333499322,
  "ymin": 40.176310631109224,
  "xmax": -52.569863794406515,
  "ymax": 75.54907567533027,
  "spatialReference": {
   "wkid": 4326,
   "latestWkid": 4326
  }
 },
 "fullExtent": {
  "xmin": -117.5208333499322,
  "ymin": 40.176310631109224,
  "xmax": -52.569863794406515,
  "ymax": 75.54907567533027,
  "spatialReference": {
   "wkid": 4326,
   "latestWkid": 4326
  }
 },
 "sortableFields": "MinPS,MaxPS,LowPS,HighPS,CenterX,CenterY,ZOrder,Shape_Length,Shape_Area,KelpYear",
 "bandCount": 1,
 "pixelType": "F32",
 "minValues": [
  -310
 ],
 "maxValues": [
  231
 ],
 "meanValues": [
  18.433121220255483
 ],
 "stdvValues": [
  40.61102586385998
 ],
 "hasMultidimensions": false,
 "pixelSizeX": 0.08648597810322994,
 "pixelSizeY": 0.08648597810322994,
 "meanPixelSize": 9627.575043209765,
 "datasetFormat": "FGDBR",
 "uncompressedSize": 1228636,
 "blockWidth": 128,
 "blockHeight": 128,
 "compressionType": "NONE",
 "bandNames": [
  "Band_1"
 ],
 "allowCopy": true,
 "allowAnalysis": true,
 "itemAccess": false,
 "inspectionCapabilities": "",
 "minPixelSize": 0,
 "maxPixelSize": 0,
 "copyrightText": "",
 "serviceDataType": "esriImageServiceDataTypeGeneric",
 "serviceSourceType": "esriImageServiceSourceTypeDataset",
 "objectIdField": "",
 "fields": [],
 "capabilities": "Image,Metadata,Mensuration",
 "defaultMosaicMethod": "Center",
 "allowedMosaicMethods": "",
 "sortField": "",
 "sortValue": null,
 "sortAscending": true,
 "mosaicOperator": "First",
 "defaultCompressionQuality": 75,
 "defaultResamplingMethod": "Bilinear",
 "maxImageHeight": 4100,
 "maxImageWidth": 15000,
 "allowRasterFunction": true,
 "rasterFunctionInfos": [
  {
   "name": "None",
   "description": "",
   "help": ""
  }
 ],
 "rasterTypeInfos": [
  {
   "name": "Raster Dataset",
   "description": "Supports all ArcGIS Raster Datasets",
   "help": ""
  }
 ],
 "mensurationCapabilities": "Basic",
 "hasHistograms": true,
 "hasColormap": false,
 "hasRasterAttributeTable": false,
 "minScale": 0,
 "maxScale": 0,
 "exportTilesAllowed": false,
 "supportsStatistics": false,
 "supportsAdvancedQueries": false,
 "editFieldsInfo": null,
 "ownershipBasedAccessControlForRasters": null,
 "allowComputeTiePoints": false,
 "useStandardizedQueries": true,
 "advancedQueryCapabilities": {
  "useStandardizedQueries": true,
  "supportsStatistics": false,
  "supportsOrderBy": false,
  "supportsDistinct": false,
  "supportsPagination": false
 },
 "spatialReference": {
  "wkid": 4326,
  "latestWkid": 4326
 }
}
