{
 "currentVersion": 11.3,
 "serviceDescription": "NOAA_BC_Bathymetry",
 "name": "NOAA_BC_Bathymetry",
 "description": "",
 "extent": {
  "xmin": -1.5300910392324142E7,
  "ymin": 6115098.970659071,
  "xmax": -1.3603232795450317E7,
  "ymax": 7208204.553954106,
  "spatialReference": {
   "wkid": 102100,
   "latestWkid": 3857
  }
 },
 "initialExtent": {
  "xmin": -1.5300910392324142E7,
  "ymin": 6115098.970659071,
  "xmax": -1.3603232795450317E7,
  "ymax": 7208204.553954106,
  "spatialReference": {
   "wkid": 102100,
   "latestWkid": 3857
  }
 },
 "fullExtent": {
  "xmin": -1.5300910392324142E7,
  "ymin": 6115098.970659071,
  "xmax": -1.3603232795450317E7,
  "ymax": 7208204.553954106,
  "spatialReference": {
   "wkid": 102100,
   "latestWkid": 3857
  }
 },
 "sortableFields": "",
 "bandCount": 1,
 "pixelType": "F32",
 "minValues": [
  -4265.2299804688
 ],
 "maxValues": [
  0
 ],
 "meanValues": [
  -2308.2852296525
 ],
 "stdvValues": [
  1338.208850725
 ],
 "hasMultidimensions": false,
 "pixelSizeX": 117.21054935610505,
 "pixelSizeY": 117.21054935610499,
 "meanPixelSize": 117.21054935610502,
 "datasetFormat": "TIFF",
 "uncompressedSize": 540311136,
 "blockWidth": 128,
 "blockHeight": 128,
 "compressionType": "None",
 "bandNames": [
  "Band_1"
 ],
 "allowCopy": true,
 "allowAnalysis": true,
 "itemAccess": false,
 "inspectionCapabilities": "",
 "noDataValue": -9999,
 "noDataValues": [
  -9999
 ],
 "minPixelSize": 0,
 "maxPixelSize": 0,
 "copyrightText": "",
 "serviceDataType": "esriImageServiceDataTypeGeneric",
 "serviceSourceType": "esriImageServiceSourceTypeDataset",
 "objectIdField": "",
 "fields": [],
 "capabilities": "Image,Metadata,Pixels,Mensuration",
 "defaultMosaicMethod": "Center",
 "allowedMosaicMethods": "",
 "sortField": "",
 "sortValue": null,
 "sortAscending": true,
 "mosaicOperator": "First",
 "defaultCompressionQuality": 75,
 "defaultResamplingMethod": "Bilinear",
 "maxImageHeight": 4100,
 "maxImageWidth": 15000,
 "allowRasterFunction": true,
 "rasterFunctionInfos": [
  {
   "name": "GliderStretched",
   "description": "A raster function template.",
   "help": ""
  },
  {
   "name": "Style_Update_V2",
   "description": "A raster function template.",
   "help": ""
  },
  {
   "name": "None",
   "description": "",
   "help": ""
  }
 ],
 "rasterTypeInfos": [
  {
   "name": "Raster Dataset",
   "description": "Supports all ArcGIS Raster Datasets",
   "help": ""
  }
 ],
 "mensurationCapabilities": "Basic",
 "hasHistograms": true,
 "hasColormap": false,
 "hasRasterAttributeTable": false,
 "minScale": 0,
 "maxScale": 0,
 "exportTilesAllowed": false,
 "supportsStatistics": false,
 "supportsAdvancedQueries": false,
 "editFieldsInfo": null,
 "ownershipBasedAccessControlForRasters": null,
 "allowComputeTiePoints": false,
 "useStandardizedQueries": true,
 "advancedQueryCapabilities": {
  "useStandardizedQueries": true,
  "supportsStatistics": false,
  "supportsOrderBy": false,
  "supportsDistinct": false,
  "supportsPagination": false
 },
 "spatialReference": {
  "wkid": 102100,
  "latestWkid": 3857
 }
}
