{
 "currentVersion": 11.3,
 "serviceDescription": " The Hakai Institute uses Remotely Piloted Aircraft Systems (RPAS), also known as drones for mapping, surveying, and videography in remote coastal areas. Here we provide information on the locations flown and methods used. Here we describe RPAS data workflows, collection methods, as well as data processing to generate orthomosaics, digital surface models, and other deliverables. We also discuss standard procedures and an overview of the analyses conducted on RPAS data at the Hakai Institute. Imagery and elevation models range in spatial resolution from 10 mm to 13 cm. Topics covered in the associated reports: \u2022 RPAS Imagery Collection Methods \u2022 RPAS Models \u2022 Additional Sensors \u2022 General RPAS Planning Specifications \u2022 Ground Control & Field Methodologies \u2022 Elevations and Datum \u2022 Accuracy and Error \u2022 Operational & Flight Parameters \u2022 Allowable Weather Conditions \u2022 Altitude and distance \u2022 RPAS Imagery Processing \u2022 Example Products \u2022 Imagery \u2022 3D Point Clouds and Elevation Models \u2022 3D Animation \u2022 Near Infrared Sensor \u2022 North Beach transect data \u2022 Advanced GIS Products and Analysis \u2022 Vantage Photos and Video See the links below for full details and metadata related to the RPAS program. Please contact data@hakai.org for further information.<\/SPAN><\/P><\/DIV><\/DIV><\/DIV>",
 "name": "RPAS/RPAS_Mosaic_RI_2021",
 "description": "",
 "extent": {
  "xmin": 848651.6270000003,
  "ymin": 566863.5917837787,
  "xmax": 1058377.2164670117,
  "ymax": 749055.4558000006,
  "spatialReference": {
   "wkid": 3153,
   "latestWkid": 3153
  }
 },
 "initialExtent": {
  "xmin": 848651.6270000003,
  "ymin": 566863.5917837787,
  "xmax": 1058377.2164670117,
  "ymax": 749055.4558000006,
  "spatialReference": {
   "wkid": 3153,
   "latestWkid": 3153
  }
 },
 "fullExtent": {
  "xmin": 848651.6270000003,
  "ymin": 566863.5917837787,
  "xmax": 1058377.2164670117,
  "ymax": 749055.4558000006,
  "spatialReference": {
   "wkid": 3153,
   "latestWkid": 3153
  }
 },
 "sortableFields": "MinPS,MaxPS,LowPS,HighPS,CenterX,CenterY,ZOrder,Shape_Length,Shape_Area",
 "bandCount": 3,
 "pixelType": "U8",
 "minValues": [
  0,
  5.551115123125783E-17,
  -5.551115123125783E-17
 ],
 "maxValues": [
  254.52075640632913,
  254.5164994117632,
  254.5151792836161
 ],
 "meanValues": [
  0,
  0,
  0
 ],
 "stdvValues": [
  0,
  0,
  0
 ],
 "hasMultidimensions": false,
 "pixelSizeX": 0.003406999632716179,
 "pixelSizeY": 0.003406999632716179,
 "meanPixelSize": 0.003406999632716179,
 "datasetFormat": "AMD",
 "uncompressedSize": 9875463407424804,
 "blockWidth": 2048,
 "blockHeight": 256,
 "compressionType": "None",
 "bandNames": [
  "Band_1",
  "Band_2",
  "Band_3"
 ],
 "allowCopy": true,
 "allowAnalysis": true,
 "itemAccess": false,
 "inspectionCapabilities": "",
 "minPixelSize": 0,
 "maxPixelSize": 0,
 "copyrightText": "Hakai Institute and the authors of the dataset",
 "serviceDataType": "esriImageServiceDataTypeRGB",
 "serviceSourceType": "esriImageServiceSourceTypeMosaicDataset",
 "objectIdField": "OBJECTID",
 "fields": [
  {
   "name": "OBJECTID",
   "type": "esriFieldTypeOID",
   "alias": "OBJECTID",
   "domain": null
  },
  {
   "name": "Shape",
   "type": "esriFieldTypeGeometry",
   "alias": "Shape",
   "domain": null
  },
  {
   "name": "Name",
   "type": "esriFieldTypeString",
   "alias": "Name",
   "domain": null,
   "length": 200
  },
  {
   "name": "MinPS",
   "type": "esriFieldTypeDouble",
   "alias": "MinPS",
   "domain": null
  },
  {
   "name": "MaxPS",
   "type": "esriFieldTypeDouble",
   "alias": "MaxPS",
   "domain": null
  },
  {
   "name": "LowPS",
   "type": "esriFieldTypeDouble",
   "alias": "LowPS",
   "domain": null
  },
  {
   "name": "HighPS",
   "type": "esriFieldTypeDouble",
   "alias": "HighPS",
   "domain": null
  },
  {
   "name": "Category",
   "type": "esriFieldTypeInteger",
   "alias": "Category",
   "domain": {
    "type": "codedValue",
    "name": "MosaicCatalogItemCategoryDomain",
    "description": "Catalog item categories.",
    "codedValues": [
     {
      "name": "Unknown",
      "code": 0
     },
     {
      "name": "Primary",
      "code": 1
     },
     {
      "name": "Overview",
      "code": 2
     },
     {
      "name": "Unprocessed Overview",
      "code": 3
     },
     {
      "name": "Partial Overview",
      "code": 4
     },
     {
      "name": "Inactive",
      "code": 5
     },
     {
      "name": "Uploaded",
      "code": 253
     },
     {
      "name": "Incomplete",
      "code": 254
     },
     {
      "name": "Custom",
      "code": 255
     }
    ],
    "mergePolicy": "esriMPTDefaultValue",
    "splitPolicy": "esriSPTDefaultValue"
   }
  },
  {
   "name": "Tag",
   "type": "esriFieldTypeString",
   "alias": "Tag",
   "domain": null,
   "length": 100
  },
  {
   "name": "GroupName",
   "type": "esriFieldTypeString",
   "alias": "GroupName",
   "domain": null,
   "length": 100
  },
  {
   "name": "ProductName",
   "type": "esriFieldTypeString",
   "alias": "ProductName",
   "domain": null,
   "length": 100
  },
  {
   "name": "CenterX",
   "type": "esriFieldTypeDouble",
   "alias": "CenterX",
   "domain": null
  },
  {
   "name": "CenterY",
   "type": "esriFieldTypeDouble",
   "alias": "CenterY",
   "domain": null
  },
  {
   "name": "ZOrder",
   "type": "esriFieldTypeInteger",
   "alias": "ZOrder",
   "domain": null
  },
  {
   "name": "Shape_Length",
   "type": "esriFieldTypeDouble",
   "alias": "Shape_Length",
   "domain": null
  },
  {
   "name": "Shape_Area",
   "type": "esriFieldTypeDouble",
   "alias": "Shape_Area",
   "domain": null
  },
  {
   "name": "MOBE",
   "type": "esriFieldTypeString",
   "alias": "MOBE",
   "domain": null,
   "length": 255
  }
 ],
 "capabilities": "Image,Metadata,Catalog",
 "defaultMosaicMethod": "Northwest",
 "allowedMosaicMethods": "NorthWest,Center,LockRaster,ByAttribute,Nadir,Viewpoint,Seamline,None",
 "sortField": "",
 "sortValue": null,
 "sortAscending": false,
 "mosaicOperator": "Last",
 "maxDownloadSizeLimit": 2048,
 "defaultCompressionQuality": 75,
 "defaultResamplingMethod": "Bilinear",
 "maxImageHeight": 4100,
 "maxImageWidth": 15000,
 "maxRecordCount": 1000,
 "maxDownloadImageCount": 20,
 "maxMosaicImageCount": 50,
 "allowRasterFunction": true,
 "rasterFunctionInfos": [
  {
   "name": "None",
   "description": "Make a Raster or Raster Dataset into a Function Raster Dataset.",
   "help": ""
  },
  {
   "name": "None",
   "description": "Make a Raster or Raster Dataset into a Function Raster Dataset.",
   "help": ""
  }
 ],
 "rasterTypeInfos": [
  {
   "name": "Raster Dataset",
   "description": "Supports all ArcGIS Raster Datasets",
   "help": ""
  }
 ],
 "mensurationCapabilities": "Basic",
 "hasHistograms": true,
 "hasColormap": false,
 "hasRasterAttributeTable": false,
 "minScale": 0,
 "maxScale": 0,
 "exportTilesAllowed": false,
 "supportsStatistics": true,
 "supportsAdvancedQueries": true,
 "editFieldsInfo": null,
 "ownershipBasedAccessControlForRasters": null,
 "allowComputeTiePoints": false,
 "useStandardizedQueries": true,
 "advancedQueryCapabilities": {
  "useStandardizedQueries": true,
  "supportsStatistics": true,
  "supportsOrderBy": true,
  "supportsDistinct": true,
  "supportsPagination": true
 },
 "spatialReference": {
  "wkid": 3153,
  "latestWkid": 3153
 }
}
