{ "currentVersion": 11.3, "serviceDescription": "
The Hakai Institute \nuses Remotely Piloted Aircraft Systems (RPAS), also known as drones for \nmapping, surveying, and videography in remote coastal areas. Here we \nprovide information on the locations flown and methods used. Here we \ndescribe RPAS data workflows, collection methods, as well as data \nprocessing to generate orthomosaics, digital surface models, and other \ndeliverables. We also discuss standard procedures and an overview of the\n analyses conducted on RPAS data at the Hakai Institute. Imagery and \nelevation models range in spatial resolution from 10 mm to 13 cm. Topics\n covered in the associated reports: \u2022 RPAS Imagery Collection Methods \u2022 \nRPAS Models \u2022 Additional Sensors \u2022 General RPAS Planning Specifications \u2022\n Ground Control & Field Methodologies \u2022 Elevations and Datum \u2022 \nAccuracy and Error \u2022 Operational & Flight Parameters \u2022 Allowable \nWeather Conditions \u2022 Altitude and distance \u2022 RPAS Imagery Processing \u2022 \nExample Products \u2022 Imagery \u2022 3D Point Clouds and Elevation Models \u2022 3D \nAnimation \u2022 Near Infrared Sensor \u2022 North Beach transect data \u2022 Advanced \nGIS Products and Analysis \u2022 Vantage Photos and Video See the links below\n for full details and metadata related to the RPAS program. Please \ncontact data@hakai.org for further information.<\/span><\/p><\/div><\/div><\/div>",
"name": "RPAS/Rocky_Intertidal_orthos_2024",
"description": " The Hakai Institute \nuses Remotely Piloted Aircraft Systems (RPAS), also known as drones for \nmapping, surveying, and videography in remote coastal areas. Here we \nprovide information on the locations flown and methods used. Here we \ndescribe RPAS data workflows, collection methods, as well as data \nprocessing to generate orthomosaics, digital surface models, and other \ndeliverables. We also discuss standard procedures and an overview of the\n analyses conducted on RPAS data at the Hakai Institute. Imagery and \nelevation models range in spatial resolution from 10 mm to 13 cm. Topics\n covered in the associated reports: \u2022 RPAS Imagery Collection Methods \u2022 \nRPAS Models \u2022 Additional Sensors \u2022 General RPAS Planning Specifications \u2022\n Ground Control & Field Methodologies \u2022 Elevations and Datum \u2022 \nAccuracy and Error \u2022 Operational & Flight Parameters \u2022 Allowable \nWeather Conditions \u2022 Altitude and distance \u2022 RPAS Imagery Processing \u2022 \nExample Products \u2022 Imagery \u2022 3D Point Clouds and Elevation Models \u2022 3D \nAnimation \u2022 Near Infrared Sensor \u2022 North Beach transect data \u2022 Advanced \nGIS Products and Analysis \u2022 Vantage Photos and Video See the links below\n for full details and metadata related to the RPAS program. Please \ncontact data@hakai.org for further information.<\/span><\/p><\/div><\/div><\/div>",
"extent": {
"xmin": 848651.4134,
"ymin": 484257.67086250964,
"xmax": 1201987.5332525165,
"ymax": 750923.7625999991,
"spatialReference": {
"wkid": 3153,
"latestWkid": 3153
}
},
"initialExtent": {
"xmin": 848651.4134,
"ymin": 484257.67086250964,
"xmax": 1201987.5332525165,
"ymax": 750923.7625999991,
"spatialReference": {
"wkid": 3153,
"latestWkid": 3153
}
},
"fullExtent": {
"xmin": 848651.4134,
"ymin": 484257.67086250964,
"xmax": 1201987.5332525165,
"ymax": 750923.7625999991,
"spatialReference": {
"wkid": 3153,
"latestWkid": 3153
}
},
"sortableFields": "MinPS,MaxPS,LowPS,HighPS,CenterX,CenterY,ZOrder,Shape_Length,Shape_Area",
"bandCount": 3,
"pixelType": "U8",
"minValues": [
0,
0,
0
],
"maxValues": [
255,
255,
255
],
"meanValues": [
0,
0,
0
],
"stdvValues": [
0,
0,
0
],
"hasMultidimensions": false,
"pixelSizeX": 0.004438288055249374,
"pixelSizeY": 0.004438288055249373,
"meanPixelSize": 0.004438288055249373,
"datasetFormat": "AMD",
"uncompressedSize": 14349808821619773,
"blockWidth": 2048,
"blockHeight": 256,
"compressionType": "None",
"bandNames": [
"Band_1",
"Band_2",
"Band_3"
],
"allowCopy": true,
"allowAnalysis": true,
"itemAccess": false,
"inspectionCapabilities": "",
"minPixelSize": 0,
"maxPixelSize": 0,
"copyrightText": "Hakai Institute and the authors of the dataset",
"serviceDataType": "esriImageServiceDataTypeRGB",
"serviceSourceType": "esriImageServiceSourceTypeMosaicDataset",
"objectIdField": "OBJECTID",
"fields": [
{
"name": "OBJECTID",
"type": "esriFieldTypeOID",
"alias": "OBJECTID",
"domain": null
},
{
"name": "Shape",
"type": "esriFieldTypeGeometry",
"alias": "Shape",
"domain": null
},
{
"name": "Name",
"type": "esriFieldTypeString",
"alias": "Name",
"domain": null,
"length": 200
},
{
"name": "MinPS",
"type": "esriFieldTypeDouble",
"alias": "MinPS",
"domain": null
},
{
"name": "MaxPS",
"type": "esriFieldTypeDouble",
"alias": "MaxPS",
"domain": null
},
{
"name": "LowPS",
"type": "esriFieldTypeDouble",
"alias": "LowPS",
"domain": null
},
{
"name": "HighPS",
"type": "esriFieldTypeDouble",
"alias": "HighPS",
"domain": null
},
{
"name": "Category",
"type": "esriFieldTypeInteger",
"alias": "Category",
"domain": {
"type": "codedValue",
"name": "MosaicCatalogItemCategoryDomain",
"description": "Catalog item categories.",
"codedValues": [
{
"name": "Unknown",
"code": 0
},
{
"name": "Primary",
"code": 1
},
{
"name": "Overview",
"code": 2
},
{
"name": "Unprocessed Overview",
"code": 3
},
{
"name": "Partial Overview",
"code": 4
},
{
"name": "Inactive",
"code": 5
},
{
"name": "Uploaded",
"code": 253
},
{
"name": "Incomplete",
"code": 254
},
{
"name": "Custom",
"code": 255
}
],
"mergePolicy": "esriMPTDefaultValue",
"splitPolicy": "esriSPTDefaultValue"
}
},
{
"name": "Tag",
"type": "esriFieldTypeString",
"alias": "Tag",
"domain": null,
"length": 100
},
{
"name": "GroupName",
"type": "esriFieldTypeString",
"alias": "GroupName",
"domain": null,
"length": 100
},
{
"name": "ProductName",
"type": "esriFieldTypeString",
"alias": "ProductName",
"domain": null,
"length": 100
},
{
"name": "CenterX",
"type": "esriFieldTypeDouble",
"alias": "CenterX",
"domain": null
},
{
"name": "CenterY",
"type": "esriFieldTypeDouble",
"alias": "CenterY",
"domain": null
},
{
"name": "ZOrder",
"type": "esriFieldTypeInteger",
"alias": "ZOrder",
"domain": null
},
{
"name": "Shape_Length",
"type": "esriFieldTypeDouble",
"alias": "Shape_Length",
"domain": null
},
{
"name": "Shape_Area",
"type": "esriFieldTypeDouble",
"alias": "Shape_Area",
"domain": null
},
{
"name": "MOBE",
"type": "esriFieldTypeString",
"alias": "MOBE",
"domain": null,
"length": 255
},
{
"name": "AcquisitionDate",
"type": "esriFieldTypeString",
"alias": "AcquisitionDate",
"domain": null,
"length": 255
},
{
"name": "Time_of_Day",
"type": "esriFieldTypeString",
"alias": "Time_of_Day",
"domain": null,
"length": 255
},
{
"name": "Location",
"type": "esriFieldTypeString",
"alias": "Location",
"domain": null,
"length": 255
},
{
"name": "Purpose",
"type": "esriFieldTypeString",
"alias": "Purpose",
"domain": null,
"length": 255
},
{
"name": "Tide",
"type": "esriFieldTypeString",
"alias": "Tide",
"domain": null,
"length": 255
},
{
"name": "Time",
"type": "esriFieldTypeString",
"alias": "Time",
"domain": null,
"length": 255
}
],
"capabilities": "Image,Metadata,Catalog,Mensuration",
"defaultMosaicMethod": "ByAttribute",
"allowedMosaicMethods": "ByAttribute,NorthWest,Center,LockRaster,Nadir,Viewpoint,Seamline,None",
"sortField": "Shape_Area",
"sortValue": "1",
"sortAscending": false,
"mosaicOperator": "Last",
"maxDownloadSizeLimit": 2048,
"defaultCompressionQuality": 75,
"defaultResamplingMethod": "Bilinear",
"maxImageHeight": 4100,
"maxImageWidth": 15000,
"maxRecordCount": 1000,
"maxDownloadImageCount": 20,
"maxMosaicImageCount": 50,
"allowRasterFunction": true,
"rasterFunctionInfos": [
{
"name": "None",
"description": "Make a Raster or Raster Dataset into a Function Raster Dataset.",
"help": ""
}
],
"rasterTypeInfos": [
{
"name": "Raster Dataset",
"description": "Supports all ArcGIS Raster Datasets",
"help": ""
}
],
"mensurationCapabilities": "Basic",
"hasHistograms": true,
"hasColormap": false,
"hasRasterAttributeTable": false,
"minScale": 0,
"maxScale": 0,
"exportTilesAllowed": false,
"supportsStatistics": true,
"supportsAdvancedQueries": true,
"editFieldsInfo": null,
"ownershipBasedAccessControlForRasters": null,
"allowComputeTiePoints": false,
"useStandardizedQueries": true,
"advancedQueryCapabilities": {
"useStandardizedQueries": true,
"supportsStatistics": true,
"supportsOrderBy": true,
"supportsDistinct": true,
"supportsPagination": true
},
"spatialReference": {
"wkid": 3153,
"latestWkid": 3153
}
}