View In:
ArcGIS JavaScript
ArcGIS Online Map Viewer
ArcGIS Earth
ArcGIS Pro
Service Description: <DIV STYLE="text-align:Left;font-size:12pt"><P><SPAN>This basemap uses:</SPAN></P><P><SPAN>ESRI Imagery for scales 1:2M and above</SPAN></P><P><SPAN>2012 5m Rapid Eye imagery between scales 1:2M and 1:100k</SPAN></P><P><SPAN>2006 50cm Orthophotos between scales 1:100k and 1:9k</SPAN></P><P><SPAN>2012 25cm Orthophotos for scales 1:9k and below. </SPAN></P></DIV>
Map Name: Hakai Imagery Basemap
Legend
All Layers and Tables
Dynamic Legend
Dynamic All Layers
Layers:
Description: <DIV STYLE="text-align:Left;font-size:12pt"><P><SPAN>This basemap uses:</SPAN></P><P><SPAN>ESRI Imagery for scales 1:2M and above</SPAN></P><P><SPAN>2012 5m Rapid Eye imagery between scales 1:2M and 1:100k</SPAN></P><P><SPAN>2006 50cm Orthophotos between scales 1:100k and 1:9k</SPAN></P><P><SPAN>2012 25cm Orthophotos for scales 1:9k and below. </SPAN></P></DIV>
Service Item Id: f01a62d6b2334b9faadce3406beca8f0
Copyright Text: Santiago Gonzalez Arriola and Keith Holmes
Spatial Reference:
102100
(3857)
LatestVCSWkid(0)
Single Fused Map Cache: true
Tile Info:
- Height: 256
- Width: 256
- DPI: 96
-
Levels of Detail: 24
-
Level ID: 1
[ Start Tile, End Tile ]
- Resolution: 78271.5169639999
- Scale: 2.95828763795777E8
-
Level ID: 2
[ Start Tile, End Tile ]
- Resolution: 39135.7584820001
- Scale: 1.47914381897889E8
-
Level ID: 3
[ Start Tile, End Tile ]
- Resolution: 19567.8792409999
- Scale: 7.3957190948944E7
-
Level ID: 4
[ Start Tile, End Tile ]
- Resolution: 9783.93962049996
- Scale: 3.6978595474472E7
-
Level ID: 5
[ Start Tile, End Tile ]
- Resolution: 4891.96981024998
- Scale: 1.8489297737236E7
- Format: Mixed
- Compression Quality: 75.0
- Origin: X: -2.0037508342787E7
Y: 2.0037508342787E7
- Spatial Reference: 102100
(3857)
LatestVCSWkid(0)
Storage Info:
- Storage Format: esriMapCacheStorageModeCompactV2
- Packet Size: 128
Initial Extent:
XMin: -1.428048227249526E7
YMin: 6726949.343909356
XMax: -1.424730345613763E7
YMax: 6748883.346110693
Spatial Reference: 102100
(0)
LatestVCSWkid(0)
Full Extent:
XMin: -1.4268662920754148E7
YMin: 6692087.273176671
XMax: -1.4232725137688782E7
YMax: 6753796.500286096
Spatial Reference: 102100
(0)
LatestVCSWkid(0)
Units: esriMeters
Supported Image Format Types: PNG32,PNG24,PNG,JPG,DIB,TIFF,EMF,PS,PDF,GIF,SVG,SVGZ,BMP
Document Info:
Title: Hakai Imagery Basemap
Author:
Comments: <DIV STYLE="text-align:Left;font-size:12pt"><P><SPAN>This basemap uses:</SPAN></P><P><SPAN>ESRI Imagery for scales 1:2M and above</SPAN></P><P><SPAN>2012 5m Rapid Eye imagery between scales 1:2M and 1:100k</SPAN></P><P><SPAN>2006 50cm Orthophotos between scales 1:100k and 1:9k</SPAN></P><P><SPAN>2012 25cm Orthophotos for scales 1:9k and below. </SPAN></P></DIV>
Subject: Custom basemap based on real-colour imagery for Calvert Island
Category:
Keywords: Basemap
AntialiasingMode: Fast
TextAntialiasingMode: Force
Supports Dynamic Layers: true
MaxRecordCount: 2000
MaxImageHeight: 4096
MaxImageWidth: 4096
Supported Query Formats: JSON, geoJSON, PBF
Supports Query Data Elements: true
Min Scale: 4622324.434309
Max Scale: 2256.994353
Min LOD: 7
Max LOD: 18
Supports Datum Transformation: true
Child Resources:
Info
Dynamic Layer
Supported Operations:
Export Map
Identify
QueryLegends
QueryDomains
Find
EstimateExportTilesSize
ExportTiles
Return Updates