View In:
ArcGIS JavaScript
ArcGIS Online Map Viewer
ArcGIS Earth
Service Description: SFU Collection, September 29 - October 6th, 2022
Imagery was collected with a DJI Mavic 3 drone. The imagery was collected by manual flight, with a mix of nadir and oblique images. The Mavic 3 has a 4/3 CMOS sensor, effective pixels: 20 MP. Sites were accessed by helicopter. No ground control was collected for these surveys.
Hakai Collection, November 11-16, 2022
Imagery was collected with a DJI Phantom 4 Pro drone, with manual and automated flight, including nadir and oblique images. The Phantom 4 Pro has a 1” CMOS sensor, effective pixels: 20 MP. Sites were accessed by vehicle and on foot. No ground control was collected for these surveys.
The imagery was processed in Pix4D mapper and aligned to existing lidar collected by the Hakai Airborne Coastal Observatory,
Name: Geospatial/FraserCanyonSfMOrthos2022
Description:
Single Fused Map Cache: false
Extent:
XMin: -1.3625268171E7
YMin: 6373462.933040783
XMax: -1.3513768495440198E7
YMax: 6812905.442000002
Spatial Reference: 102100
(3857)
LatestVCSWkid(0)
Initial Extent:
XMin: -1.3625268171E7
YMin: 6373462.933040783
XMax: -1.3513768495440198E7
YMax: 6812905.442000002
Spatial Reference: 102100
(3857)
LatestVCSWkid(0)
Full Extent:
XMin: -1.3625268171E7
YMin: 6373462.933040783
XMax: -1.3513768495440198E7
YMax: 6812905.442000002
Spatial Reference: 102100
(3857)
LatestVCSWkid(0)
Pixel Size X: 0.01637999999997091
Pixel Size Y: 0.016379999999970883
Band Count: 3
Pixel Type: U8
RasterFunction Infos: {"rasterFunctionInfos": [{
"name": "None",
"description": "",
"help": ""
}]}
Mensuration Capabilities:
Inspection Capabilities:
Has Histograms: true
Has Colormap: false
Has Multi Dimensions : false
Rendering Rule:
Min Scale: 0
Max Scale: 0
Copyright Text: Hakai Institute and SFU River Dynamics Laboratory
Service Data Type: esriImageServiceDataTypeRGB
Min Values: 0, 0, 0
Max Values: 255, 255, 255
Mean Values: 105.06807473106915, 107.37417064515151, 104.45085584054888
Standard Deviation Values: 64.29766507539847, 63.82440728063925, 63.63110488607856
Object ID Field: OBJECTID
Fields:
-
OBJECTID
(
type: esriFieldTypeOID, alias: OBJECTID
)
-
Shape
(
type: esriFieldTypeGeometry, alias: Shape
)
-
Name
(
type: esriFieldTypeString, alias: Name, length: 200
)
-
MinPS
(
type: esriFieldTypeDouble, alias: MinPS
)
-
MaxPS
(
type: esriFieldTypeDouble, alias: MaxPS
)
-
LowPS
(
type: esriFieldTypeDouble, alias: LowPS
)
-
HighPS
(
type: esriFieldTypeDouble, alias: HighPS
)
-
Category
(
type: esriFieldTypeInteger, alias: Category
, Coded Values:
[0: Unknown]
, [1: Primary]
, [2: Overview]
, ...6 more...
)
-
Tag
(
type: esriFieldTypeString, alias: Tag, length: 100
)
-
GroupName
(
type: esriFieldTypeString, alias: GroupName, length: 100
)
-
ProductName
(
type: esriFieldTypeString, alias: ProductName, length: 100
)
-
CenterX
(
type: esriFieldTypeDouble, alias: CenterX
)
-
CenterY
(
type: esriFieldTypeDouble, alias: CenterY
)
-
ZOrder
(
type: esriFieldTypeInteger, alias: ZOrder
)
-
Shape_Length
(
type: esriFieldTypeDouble, alias: Shape_Length
)
-
Shape_Area
(
type: esriFieldTypeDouble, alias: Shape_Area
)
Default Mosaic Method: Northwest
Allowed Mosaic Methods: NorthWest,Center,LockRaster,ByAttribute,Nadir,Viewpoint,Seamline,None
SortField:
SortValue: null
Mosaic Operator: First
Default Compression Quality: 75
Default Resampling Method: Bilinear
Max Record Count: 1000
Max Image Height: 4100
Max Image Width: 15000
Max Download Image Count: 20
Max Mosaic Image Count: 20
Allow Raster Function: false
Allow Copy: true
Allow Analysis: true
Allow Compute TiePoints: false
Supports Statistics: true
Supports Advanced Queries: true
Use StandardizedQueries: true
Raster Type Infos:
Name: Raster Dataset
Description: Supports all ArcGIS Raster Datasets
Help:
Has Raster Attribute Table: false
Edit Fields Info: null
Ownership Based AccessControl For Rasters: null
Child Resources:
Info
Histograms
Statistics
Key Properties
Legend
Raster Function Infos
Supported Operations:
Export Image
Query
Identify
Compute Histograms
Compute Statistics Histograms
Get Samples
Compute Class Statistics
Query GPS Info
Find Images
Image to Map
Map to Image
Measure from Image
Image to Map Multiray
Query Boundary
Compute Pixel Location
Compute Angles
Validate
Project