View In:
ArcGIS JavaScript
ArcGIS Online Map Viewer
ArcGIS Earth
Service Description: Hydrology_Watersheds/Eref_change
Name: Hydrology_Watersheds/Eref_change
Description:
Single Fused Map Cache: false
Extent:
XMin: -117.5208333499322
YMin: 40.17631063110922
XMax: -52.60416666600001
YMax: 75.50964397383996
Spatial Reference: 4326
(4326)
LatestVCSWkid(0)
Initial Extent:
XMin: -117.5208333499322
YMin: 40.17631063110922
XMax: -52.60416666600001
YMax: 75.50964397383996
Spatial Reference: 4326
(4326)
LatestVCSWkid(0)
Full Extent:
XMin: -117.5208333499322
YMin: 40.17631063110922
XMax: -52.60416666600001
YMax: 75.50964397383996
Spatial Reference: 4326
(4326)
LatestVCSWkid(0)
Pixel Size X: 0.04166666667774852
Pixel Size Y: 0.041666666677748515
Band Count: 1
Pixel Type: F32
RasterFunction Infos: {"rasterFunctionInfos": [{
"name": "None",
"description": "",
"help": ""
}]}
Mensuration Capabilities: Basic
Inspection Capabilities:
Has Histograms: true
Has Colormap: false
Has Multi Dimensions : false
Rendering Rule:
Min Scale: 0
Max Scale: 0
Copyright Text:
Service Data Type: esriImageServiceDataTypeGeneric
Min Values: -52
Max Values: 108
Mean Values: 9.358832937545415
Standard Deviation Values: 17.08019300094318
Object ID Field:
Fields:
None
Default Mosaic Method: Center
Allowed Mosaic Methods:
SortField:
SortValue: null
Mosaic Operator: First
Default Compression Quality: 75
Default Resampling Method: Bilinear
Max Record Count: null
Max Image Height: 4100
Max Image Width: 15000
Max Download Image Count: null
Max Mosaic Image Count: null
Allow Raster Function: true
Allow Copy: true
Allow Analysis: true
Allow Compute TiePoints: false
Supports Statistics: false
Supports Advanced Queries: false
Use StandardizedQueries: true
Raster Type Infos:
Name: Raster Dataset
Description: Supports all ArcGIS Raster Datasets
Help:
Has Raster Attribute Table: false
Edit Fields Info: null
Ownership Based AccessControl For Rasters: null
Child Resources:
Info
Histograms
Statistics
Key Properties
Legend
Raster Function Infos
Supported Operations:
Export Image
Identify
Measure
Compute Histograms
Compute Statistics Histograms
Get Samples
Compute Class Statistics
Query Boundary
Compute Pixel Location
Compute Angles
Validate
Project