View In:
ArcGIS JavaScript
ArcGIS Online Map Viewer
ArcGIS Earth
Service Description: The Hakai Institute uses Remotely Piloted Aircraft Systems (RPAS), also known as drones for mapping, surveying, and videography in remote coastal areas. Here we provide information on the locations flown and methods used. Here we describe RPAS data workflows, collection methods, as well as data processing to generate orthomosaics, digital surface models, and other deliverables. We also discuss standard procedures and an overview of the analyses conducted on RPAS data at the Hakai Institute. Imagery and elevation models range in spatial resolution from 10 mm to 13 cm. Topics covered in the associated reports: • RPAS Imagery Collection Methods • RPAS Models • Additional Sensors • General RPAS Planning Specifications • Ground Control & Field Methodologies • Elevations and Datum • Accuracy and Error • Operational & Flight Parameters • Allowable Weather Conditions • Altitude and distance • RPAS Imagery Processing • Example Products • Imagery • 3D Point Clouds and Elevation Models • 3D Animation • Near Infrared Sensor • North Beach transect data • Advanced GIS Products and Analysis • Vantage Photos and Video See the links below for full details and metadata related to the RPAS program. Please contact data@hakai.org for further information.
Name: RPAS/RPAS_Mosaic_RI_2022
Description:
Single Fused Map Cache: false
Extent:
XMin: 848651.0851000007
YMin: 570710.4879677125
XMax: 1058379.7973890088
YMax: 750939.5325000007
Spatial Reference: 3153
(3153)
LatestVCSWkid(0)
Initial Extent:
XMin: 848651.0851000007
YMin: 570710.4879677125
XMax: 1058379.7973890088
YMax: 750939.5325000007
Spatial Reference: 3153
(3153)
LatestVCSWkid(0)
Full Extent:
XMin: 848651.0851000007
YMin: 570710.4879677125
XMax: 1058379.7973890088
YMax: 750939.5325000007
Spatial Reference: 3153
(3153)
LatestVCSWkid(0)
Pixel Size X: 0.0036709999999651344
Pixel Size Y: 0.0036709999999651336
Band Count: 3
Pixel Type: U8
RasterFunction Infos: {"rasterFunctionInfos": [
{
"name": "None",
"description": "Make a Raster or Raster Dataset into a Function Raster Dataset.",
"help": ""
},
{
"name": "None",
"description": "Make a Raster or Raster Dataset into a Function Raster Dataset.",
"help": ""
}
]}
Mensuration Capabilities: Basic
Inspection Capabilities:
Has Histograms: true
Has Colormap: false
Has Multi Dimensions : false
Rendering Rule:
Min Scale: 0
Max Scale: 0
Copyright Text: Hakai Institute and the authors of the dataset
Service Data Type: esriImageServiceDataTypeRGB
Min Values: 0, 0, 0
Max Values: 255, 255, 255
Mean Values: 0, 0, 0
Standard Deviation Values: 0, 0, 0
Object ID Field: OBJECTID
Fields:
-
OBJECTID
(
type: esriFieldTypeOID, alias: OBJECTID
)
-
Shape
(
type: esriFieldTypeGeometry, alias: Shape
)
-
Name
(
type: esriFieldTypeString, alias: Name, length: 200
)
-
MinPS
(
type: esriFieldTypeDouble, alias: MinPS
)
-
MaxPS
(
type: esriFieldTypeDouble, alias: MaxPS
)
-
LowPS
(
type: esriFieldTypeDouble, alias: LowPS
)
-
HighPS
(
type: esriFieldTypeDouble, alias: HighPS
)
-
Category
(
type: esriFieldTypeInteger, alias: Category
, Coded Values:
[0: Unknown]
, [1: Primary]
, [2: Overview]
, ...6 more...
)
-
Tag
(
type: esriFieldTypeString, alias: Tag, length: 100
)
-
GroupName
(
type: esriFieldTypeString, alias: GroupName, length: 100
)
-
ProductName
(
type: esriFieldTypeString, alias: ProductName, length: 100
)
-
CenterX
(
type: esriFieldTypeDouble, alias: CenterX
)
-
CenterY
(
type: esriFieldTypeDouble, alias: CenterY
)
-
ZOrder
(
type: esriFieldTypeInteger, alias: ZOrder
)
-
Shape_Length
(
type: esriFieldTypeDouble, alias: Shape_Length
)
-
Shape_Area
(
type: esriFieldTypeDouble, alias: Shape_Area
)
-
MOBE
(
type: esriFieldTypeString, alias: MOBE, length: 255
)
Default Mosaic Method: Northwest
Allowed Mosaic Methods: NorthWest,Center,LockRaster,ByAttribute,Nadir,Viewpoint,Seamline,None
SortField:
SortValue: null
Mosaic Operator: First
Default Compression Quality: 75
Default Resampling Method: Bilinear
Max Record Count: 1000
Max Image Height: 4100
Max Image Width: 15000
Max Download Image Count: 20
Max Mosaic Image Count: 50
Allow Raster Function: true
Allow Copy: true
Allow Analysis: true
Allow Compute TiePoints: false
Supports Statistics: true
Supports Advanced Queries: true
Use StandardizedQueries: true
Raster Type Infos:
Name: Raster Dataset
Description: Supports all ArcGIS Raster Datasets
Help:
Has Raster Attribute Table: false
Edit Fields Info: null
Ownership Based AccessControl For Rasters: null
Child Resources:
Info
Histograms
Statistics
Key Properties
Legend
Raster Function Infos
Supported Operations:
Export Image
Query
Identify
Compute Histograms
Compute Statistics Histograms
Get Samples
Compute Class Statistics
Query GPS Info
Find Images
Image to Map
Map to Image
Measure from Image
Image to Map Multiray
Query Boundary
Compute Pixel Location
Compute Angles
Validate
Project