View In:
ArcGIS JavaScript
ArcGIS Online Map Viewer
ArcGIS Earth
Service Description: RPAS/Rocky_Intertidal_orthos_2025
Name: RPAS/Rocky_Intertidal_orthos_2025
Description:
Single Fused Map Cache: false
Extent:
XMin: 829536.8877000008
YMin: 737663.3041333967
XMax: 853124.3546657228
YMax: 768943.3200000003
Spatial Reference: 3153
(3153)
LatestVCSWkid(0)
Initial Extent:
XMin: 829536.8877000008
YMin: 737663.3041333967
XMax: 853124.3546657228
YMax: 768943.3200000003
Spatial Reference: 3153
(3153)
LatestVCSWkid(0)
Full Extent:
XMin: 829536.8877000008
YMin: 737663.3041333967
XMax: 853124.3546657228
YMax: 768943.3200000003
Spatial Reference: 3153
(3153)
LatestVCSWkid(0)
Pixel Size X: 0.004047316818779995
Pixel Size Y: 0.004047316818780004
Band Count: 4
Pixel Type: U8
RasterFunction Infos: {"rasterFunctionInfos": [{
"name": "None",
"description": "Make a Raster or Raster Dataset into a Function Raster Dataset.",
"help": ""
}]}
Mensuration Capabilities: Basic
Inspection Capabilities:
Has Histograms: true
Has Colormap: false
Has Multi Dimensions : false
Rendering Rule:
Min Scale: 0
Max Scale: 0
Copyright Text:
Service Data Type: esriImageServiceDataTypeGeneric
Min Values: 0, 0, -5.551115123125783E-17, 0
Max Values: 255, 255, 255, 127.5
Mean Values: 0, 0, 0, 126
Standard Deviation Values: 0, 0, 0, 0.7905694150420945
Object ID Field: OBJECTID
Fields:
-
OBJECTID
(
type: esriFieldTypeOID, alias: OBJECTID
)
-
Shape
(
type: esriFieldTypeGeometry, alias: Shape
)
-
Name
(
type: esriFieldTypeString, alias: Name, length: 200
)
-
MinPS
(
type: esriFieldTypeDouble, alias: MinPS
)
-
MaxPS
(
type: esriFieldTypeDouble, alias: MaxPS
)
-
LowPS
(
type: esriFieldTypeDouble, alias: LowPS
)
-
HighPS
(
type: esriFieldTypeDouble, alias: HighPS
)
-
Category
(
type: esriFieldTypeInteger, alias: Category
, Coded Values:
[0: Unknown]
, [1: Primary]
, [2: Overview]
, ...6 more...
)
-
Tag
(
type: esriFieldTypeString, alias: Tag, length: 100
)
-
GroupName
(
type: esriFieldTypeString, alias: GroupName, length: 100
)
-
ProductName
(
type: esriFieldTypeString, alias: ProductName, length: 100
)
-
CenterX
(
type: esriFieldTypeDouble, alias: CenterX
)
-
CenterY
(
type: esriFieldTypeDouble, alias: CenterY
)
-
ZOrder
(
type: esriFieldTypeInteger, alias: ZOrder
)
-
Shape_Length
(
type: esriFieldTypeDouble, alias: Shape_Length
)
-
Shape_Area
(
type: esriFieldTypeDouble, alias: Shape_Area
)
-
MOBE
(
type: esriFieldTypeString, alias: MOBE, length: 255
)
-
AcquisitionDate
(
type: esriFieldTypeString, alias: AcquisitionDate, length: 255
)
-
Time
(
type: esriFieldTypeString, alias: Time, length: 255
)
-
Location
(
type: esriFieldTypeString, alias: Location, length: 255
)
-
Tide
(
type: esriFieldTypeString, alias: Tide, length: 255
)
-
Purpose
(
type: esriFieldTypeString, alias: Purpose, length: 255
)
Default Mosaic Method: ByAttribute
Allowed Mosaic Methods: ByAttribute,NorthWest,Center,LockRaster,Nadir,Viewpoint,Seamline,None
SortField: Shape_Area
SortValue: 1
Mosaic Operator: Last
Default Compression Quality: 75
Default Resampling Method: Bilinear
Max Record Count: 1000
Max Image Height: 4100
Max Image Width: 15000
Max Download Image Count: 20
Max Mosaic Image Count: 50
Allow Raster Function: true
Allow Copy: true
Allow Analysis: true
Allow Compute TiePoints: false
Supports Statistics: true
Supports Advanced Queries: true
Use StandardizedQueries: true
Raster Type Infos:
Name: Raster Dataset
Description: Supports all ArcGIS Raster Datasets
Help:
Has Raster Attribute Table: false
Edit Fields Info: null
Ownership Based AccessControl For Rasters: null
Child Resources:
Info
Histograms
Statistics
Key Properties
Legend
Raster Function Infos
Supported Operations:
Export Image
Query
Identify
Measure
Compute Histograms
Compute Statistics Histograms
Get Samples
Compute Class Statistics
Query GPS Info
Find Images
Image to Map
Map to Image
Measure from Image
Image to Map Multiray
Query Boundary
Compute Pixel Location
Compute Angles
Validate
Project