View In:
ArcGIS JavaScript
ArcGIS Online Map Viewer
ArcGIS Earth
Service Description: TRIM_25m_Digital_Elevation_Model
Name: TRIM_25m_Digital_Elevation_Model
Description:
Single Fused Map Cache: false
Extent:
XMin: 721281.1667999998
YMin: 525981.4670000039
XMax: 1178231.1667999998
YMax: 895581.4670000039
Spatial Reference: 0
(0)
LatestVCSWkid(0)
Initial Extent:
XMin: 721281.1667999998
YMin: 525981.4670000039
XMax: 1178231.1667999998
YMax: 895581.4670000039
Spatial Reference: 0
(0)
LatestVCSWkid(0)
Full Extent:
XMin: 721281.1667999998
YMin: 525981.4670000039
XMax: 1178231.1667999998
YMax: 895581.4670000039
Spatial Reference: 0
(0)
LatestVCSWkid(0)
Pixel Size X: 25.0
Pixel Size Y: 25.0
Band Count: 1
Pixel Type: S16
RasterFunction Infos: {"rasterFunctionInfos": [
{
"name": "None",
"description": "Make a Raster or Raster Dataset into a Function Raster Dataset.",
"help": ""
},
{
"name": "hillshade",
"description": "A raster function template.",
"help": ""
},
{
"name": "shaded_relief",
"description": "A raster function template.",
"help": ""
}
]}
Mensuration Capabilities: Basic
Inspection Capabilities:
Has Histograms: false
Has Colormap: false
Has Multi Dimensions : false
Rendering Rule:
Min Scale: 0
Max Scale: 0
Copyright Text:
Service Data Type: esriImageServiceDataTypeGeneric
Min Values: -226
Max Values: 3982
Mean Values: 962.1533020152915
Standard Deviation Values: 663.9274502178736
Object ID Field:
Fields:
None
Default Mosaic Method: Center
Allowed Mosaic Methods:
SortField:
SortValue: null
Mosaic Operator: First
Default Compression Quality: 75
Default Resampling Method: Bilinear
Max Record Count: null
Max Image Height: 4100
Max Image Width: 15000
Max Download Image Count: null
Max Mosaic Image Count: null
Allow Raster Function: true
Allow Copy: true
Allow Analysis: true
Allow Compute TiePoints: false
Supports Statistics: false
Supports Advanced Queries: false
Use StandardizedQueries: true
Raster Type Infos:
Name: Raster Dataset
Description: Supports all ArcGIS Raster Datasets
Help:
Has Raster Attribute Table: true
Edit Fields Info: null
Ownership Based AccessControl For Rasters: null
Child Resources:
Info
Raster Attribute Table
Statistics
Key Properties
Legend
Raster Function Infos
Supported Operations:
Export Image
Identify
Measure
Compute Histograms
Compute Statistics Histograms
Get Samples
Compute Class Statistics
Query Boundary
Compute Pixel Location
Compute Angles
Validate
Project