View In:
ArcGIS JavaScript
ArcGIS Online Map Viewer
ArcGIS Earth
Service Description: 2016_Clipped_2m_CHM_raster
Name: 2016_Clipped_2m_CHM_raster
Description:
Single Fused Map Cache: false
Extent:
XMin: 558001.1209432676
YMin: 5695602.8880403
XMax: 578201.1209432676
YMax: 5732014.8880403
Spatial Reference: 26909
(26909)
LatestVCSWkid(0)
Initial Extent:
XMin: 558001.1209432676
YMin: 5695602.8880403
XMax: 578201.1209432676
YMax: 5732014.8880403
Spatial Reference: 26909
(26909)
LatestVCSWkid(0)
Full Extent:
XMin: 558001.1209432676
YMin: 5695602.8880403
XMax: 578201.1209432676
YMax: 5732014.8880403
Spatial Reference: 26909
(26909)
LatestVCSWkid(0)
Pixel Size X: 2.0
Pixel Size Y: 2.0
Band Count: 1
Pixel Type: F32
RasterFunction Infos: {"rasterFunctionInfos": [
{
"name": "2016_CHM",
"description": "A raster function template.",
"help": ""
},
{
"name": "None",
"description": "",
"help": ""
}
]}
Mensuration Capabilities: Basic
Inspection Capabilities:
Has Histograms: true
Has Colormap: false
Has Multi Dimensions : false
Rendering Rule:
Min Scale: 0
Max Scale: 0
Copyright Text:
Service Data Type: esriImageServiceDataTypeThematic
Min Values: 0
Max Values: 71
Mean Values: 7.9004002073128
Standard Deviation Values: 7.5451976162209
Object ID Field:
Fields:
None
Default Mosaic Method: Center
Allowed Mosaic Methods:
SortField:
SortValue: null
Mosaic Operator: First
Default Compression Quality: 75
Default Resampling Method: Bilinear
Max Record Count: null
Max Image Height: 4100
Max Image Width: 15000
Max Download Image Count: null
Max Mosaic Image Count: null
Allow Raster Function: true
Allow Copy: true
Allow Analysis: true
Allow Compute TiePoints: false
Supports Statistics: false
Supports Advanced Queries: false
Use StandardizedQueries: true
Raster Type Infos:
Name: Raster Dataset
Description: Supports all ArcGIS Raster Datasets
Help:
Has Raster Attribute Table: false
Edit Fields Info: null
Ownership Based AccessControl For Rasters: null
Child Resources:
Info
Histograms
Statistics
Key Properties
Legend
Raster Function Infos
Supported Operations:
Export Image
Identify
Measure
Compute Histograms
Compute Statistics Histograms
Get Samples
Compute Class Statistics
Query Boundary
Compute Pixel Location
Compute Angles
Validate
Project