View In:
ArcGIS JavaScript
ArcGIS Online Map Viewer
ArcGIS Earth
Service Description: 3m_NN_hflat_DEM_latest_clipped
Name: 3m_NN_hflat_DEM_latest_clipped
Description:
Single Fused Map Cache: false
Extent:
XMin: 558095.1278085515
YMin: 5695818.947968748
XMax: 578108.1278085515
YMax: 5731890.947968748
Spatial Reference: 26909
(26909)
LatestVCSWkid(0)
Initial Extent:
XMin: 558095.1278085515
YMin: 5695818.947968748
XMax: 578108.1278085515
YMax: 5731890.947968748
Spatial Reference: 26909
(26909)
LatestVCSWkid(0)
Full Extent:
XMin: 558095.1278085515
YMin: 5695818.947968748
XMax: 578108.1278085515
YMax: 5731890.947968748
Spatial Reference: 26909
(26909)
LatestVCSWkid(0)
Pixel Size X: 3.0
Pixel Size Y: 3.0
Band Count: 1
Pixel Type: F32
RasterFunction Infos: {"rasterFunctionInfos": [
{
"name": "None",
"description": "Make a Raster or Raster Dataset into a Function Raster Dataset.",
"help": ""
},
{
"name": "Hillshade",
"description": "A raster function template.",
"help": ""
},
{
"name": "Shaded_releif",
"description": "A raster function template.",
"help": ""
},
{
"name": "Slope",
"description": "A raster function template.",
"help": ""
}
]}
Mensuration Capabilities: Basic
Inspection Capabilities:
Has Histograms: true
Has Colormap: false
Has Multi Dimensions : false
Rendering Rule:
Min Scale: 0
Max Scale: 0
Copyright Text:
Service Data Type: esriImageServiceDataTypeGeneric
Min Values: -1.3810811042786
Max Values: 1012.3724365234
Mean Values: 165.3678324978
Standard Deviation Values: 163.98601268336
Object ID Field:
Fields:
None
Default Mosaic Method: Center
Allowed Mosaic Methods:
SortField:
SortValue: null
Mosaic Operator: First
Default Compression Quality: 75
Default Resampling Method: Bilinear
Max Record Count: null
Max Image Height: 4100
Max Image Width: 15000
Max Download Image Count: null
Max Mosaic Image Count: null
Allow Raster Function: true
Allow Copy: true
Allow Analysis: true
Allow Compute TiePoints: false
Supports Statistics: false
Supports Advanced Queries: false
Use StandardizedQueries: true
Raster Type Infos:
Name: Raster Dataset
Description: Supports all ArcGIS Raster Datasets
Help:
Has Raster Attribute Table: false
Edit Fields Info: null
Ownership Based AccessControl For Rasters: null
Child Resources:
Info
Histograms
Statistics
Key Properties
Legend
Raster Function Infos
Supported Operations:
Export Image
Identify
Measure
Compute Histograms
Compute Statistics Histograms
Get Samples
Compute Class Statistics
Query Boundary
Compute Pixel Location
Compute Angles
Validate
Project