View In:
ArcGIS JavaScript
ArcGIS Online Map Viewer
ArcGIS Earth
Service Description: Bamfield_Wizard_Ortho_April9_2016
Name: Bamfield_Wizard_Ortho_April9_2016
Description:
Single Fused Map Cache: false
Extent:
XMin: 341487.70381616644
YMin: 5413822.033581669
XMax: 341744.2927359281
YMax: 5414059.503334538
Spatial Reference: 32610
(32610)
LatestVCSWkid(0)
Initial Extent:
XMin: 341487.70381616644
YMin: 5413822.033581669
XMax: 341744.2927359281
YMax: 5414059.503334538
Spatial Reference: 32610
(32610)
LatestVCSWkid(0)
Full Extent:
XMin: 341487.70381616644
YMin: 5413822.033581669
XMax: 341744.2927359281
YMax: 5414059.503334538
Spatial Reference: 32610
(32610)
LatestVCSWkid(0)
Pixel Size X: 0.03166200885508994
Pixel Size Y: 0.031662633715818324
Band Count: 4
Pixel Type: U8
RasterFunction Infos: {"rasterFunctionInfos": [{
"name": "None",
"description": "",
"help": ""
}]}
Mensuration Capabilities: Basic
Inspection Capabilities:
Has Histograms: true
Has Colormap: false
Has Multi Dimensions : false
Rendering Rule:
Min Scale: 0
Max Scale: 0
Copyright Text:
Service Data Type: esriImageServiceDataTypeGeneric
Min Values: 0, 0, 0, 0
Max Values: 255, 255, 255, 255
Mean Values: 93.339930602172, 98.039089930898, 92.96051230668, 196.82440153011
Standard Deviation Values: 58.935269530994, 60.829282079643, 59.484035538393, 107.00643691331
Object ID Field:
Fields:
None
Default Mosaic Method: Center
Allowed Mosaic Methods:
SortField:
SortValue: null
Mosaic Operator: First
Default Compression Quality: 75
Default Resampling Method: Bilinear
Max Record Count: null
Max Image Height: 4100
Max Image Width: 15000
Max Download Image Count: null
Max Mosaic Image Count: null
Allow Raster Function: true
Allow Copy: true
Allow Analysis: true
Allow Compute TiePoints: false
Supports Statistics: false
Supports Advanced Queries: false
Use StandardizedQueries: true
Raster Type Infos:
Name: Raster Dataset
Description: Supports all ArcGIS Raster Datasets
Help:
Has Raster Attribute Table: false
Edit Fields Info: null
Ownership Based AccessControl For Rasters: null
Child Resources:
Info
Histograms
Statistics
Key Properties
Legend
Raster Function Infos
Supported Operations:
Export Image
Identify
Measure
Compute Histograms
Compute Statistics Histograms
Get Samples
Compute Class Statistics
Query Boundary
Compute Pixel Location
Compute Angles
Validate
Project