View In:
ArcGIS JavaScript
ArcGIS Online Map Viewer
ArcGIS Earth
ArcGIS Pro
Service Description: <DIV STYLE="text-align:Left;"><DIV><DIV><P STYLE="margin:0 0 0 0;"><SPAN><SPAN>Layers used for Hakai Terrain Relief:</SPAN></SPAN></P><P STYLE="margin:0 0 0 0;"><SPAN><SPAN>1) Land Mask</SPAN></SPAN></P><P STYLE="margin:0 0 0 0;"><SPAN><SPAN>Land Mask is derived from the Greater Hakai Area of Interest Boundary - the British Columbia shoreline dataset (BC DATA - 2013). 2012 + 2014 LiDAR datasets were used to enhance shoreline data for Calvert Island area. A 0 tide was used to create more accurate polygons that formed to the shoreline better than the provincial dataset. Manual edits and quality control using 2006 + 2012 orthophotos was also conducted by HAKAI SPAR in 2014. </SPAN></SPAN></P><P STYLE="margin:0 0 0 0;"><SPAN><SPAN>2) Streams</SPAN></SPAN></P><P STYLE="margin:0 0 0 0;"><SPAN><SPAN>Streams are based on the British Columbia Fresh Water Atlas (</SPAN></SPAN><A href="http://geobc.gov.bc.ca/base-mapping/atlas/fwa/"><SPAN><SPAN>http://geobc.gov.bc.ca/base-mapping/atlas/fwa/)</SPAN></SPAN></A><SPAN><SPAN>. FWA is dissolved and scale dependant. Dissolved based on stream order so relative stream sizes can be reflected in the basemap. No alterations have been made to the streams data although some errors are observed on smaller order streams. An updated dataset based on LiDAR hydrology outputs will enhance this data layer in future versions.</SPAN></SPAN></P><P STYLE="margin:0 0 0 0;"><SPAN><SPAN>3) Lakes</SPAN></SPAN></P><P STYLE="margin:0 0 0 0;"><SPAN><SPAN>Lakes are derived from the British Columbia Fresh Water Atlas (</SPAN></SPAN><A href="http://geobc.gov.bc.ca/base-mapping/atlas/fwa/"><SPAN><SPAN>http://geobc.gov.bc.ca/base-mapping/atlas/fwa/)</SPAN></SPAN></A><SPAN><SPAN>.</SPAN></SPAN></P><P STYLE="margin:0 0 11 0;"><SPAN><SPAN>Minor manual edits have been made to enhance the lakes layer on Calvert Island by HAKAI SPAR.</SPAN></SPAN></P><P STYLE="margin:0 0 11 0;"><SPAN><SPAN>4) DEM (Digital Elevation Model)</SPAN></SPAN></P><P STYLE="margin:0 0 11 0;"><SPAN><SPAN>DEM was supplied by the TRIM dataset at 25 meter spatial resolution. Edits include resampling the 25 meters to 5 meters to improve the look by giving it a smoother appearance. A clip was used (using the land mask) to smooth the edges of the shoreline. Calvert Island was erased so the Hakai LiDAR dataset could be used to enhance the spatial resolution of the final product. The Hakai LiDAR data (2m spatial resolution) is from the November 14</SPAN></SPAN><SPAN><SPAN>th </SPAN></SPAN><SPAN><SPAN>data and requires further processing. Inaccuracies exist in the LiDAR based DEM and it should only be used for visualization. Updates in 2015 will allow for the publishing of a new DEM and therefore updated Hakai Terrain Relief basemap. </SPAN></SPAN></P><P STYLE="margin:0 0 11 0;"><SPAN><SPAN>5) Hillshade</SPAN></SPAN></P><P STYLE="margin:0 0 11 0;"><SPAN><SPAN>Hillshade model was developed in ARC desktop from the TRIM 25 meter model. A raster calculator was used to convert “no-data” to a value of 180 (flat land). A clip to the shoreline (land mask) was used to ensure no bleeding of no data would impact the look of the final basemap. </SPAN></SPAN></P><P STYLE="margin:0 0 11 0;"><SPAN><SPAN>Hillshade for Calvert Island was conducted using the November 14</SPAN></SPAN><SPAN><SPAN>th </SPAN></SPAN><SPAN><SPAN>LiDAR based DEM (2m). Future enhanced DEM data will result in a new hillshade for 2015.</SPAN></SPAN></P><P STYLE="margin:0 0 11 0;"><SPAN><SPAN>6) Bathymetry model and hillshade. </SPAN></SPAN></P><P STYLE="margin:0 0 11 0;"><SPAN><SPAN>25 meter bathymetry model was resampled to 5 meters and raster calculator “no data” to “0” to fill any gaps and clipped to the “land mask“ layer. The TRIM based 25 meter model had a raster calculator to “0” to fill the gaps and a hillshade was produced. A clip of the 25 meter hillshade using the “land mask” produced a final product to be fused with the bathymetry model for all ocean areas. </SPAN></SPAN></P><P STYLE="margin:0 0 11 0;"><SPAN>Gamma corrected Orthorectified Elevation Tint Fusions were created by fusing the described hillshades with the DEM, applying a custom tint to the latter, separately for land and ocean hillshade-DEM pairs as per http://www.esri.com/news/arcwatch/0612/using-image-analysis-functions-to-display-layer-tints-on-hillshades.html. The same process was followed for the land component of Calvert Island separately. The resulting resolutions for the land and ocean Tint Fusions are: </SPAN></P><P STYLE="margin:0 0 11 0;"><SPAN>- 25m for the ocean component </SPAN></P><P STYLE="margin:0 0 11 0;"><SPAN>- 25m for the land component excluding Calvert Island</SPAN></P><P STYLE="margin:0 0 11 0;"><SPAN>- 5m for the land component of Calvert Island</SPAN></P><P STYLE="margin:0 0 11 0;"><SPAN><SPAN>A summary of the Raster Data used for the Hakai Terrain Relief basemap (dated December 5</SPAN></SPAN><SPAN><SPAN>th</SPAN></SPAN><SPAN><SPAN>, 2014)</SPAN></SPAN></P><P STYLE="margin:0 0 11 0;"><SPAN><SPAN>Thee sets of DEM / Hillshades were produced to cover the entire greater hakai study area.</SPAN></SPAN></P><OL STYLE="margin:0 0 0 0;padding:0 0 0 0;"><LI><P STYLE="margin:0 0 11 0;"><SPAN><SPAN>TRIM based DEM + Hillshade – All land except Calvert / Hecate region.</SPAN></SPAN></P></LI><LI><P STYLE="margin:0 0 11 0;"><SPAN><SPAN>2012 / 2014 LiDAR based DEM + Hillshade (dated November 14</SPAN></SPAN><SPAN><SPAN>th</SPAN></SPAN><SPAN><SPAN>– 2014) – All Calvert + Hecate areas. * Errors in the data. DEM needs work and should only be used for visualization. Updated expected by February, 2015.</SPAN></SPAN></P></LI></OL><P STYLE="margin:0 0 11 20;"><SPAN>3. Bathymetry (TRIM based) elevation model + hillshade. Covers all ocean areas.</SPAN></P><P><SPAN>This basemap can be downloaded and used offline on ArcGIS Desktop, ArcGIS App for iOS and Android, and ArcGIS Collector for iOS and Android. </SPAN></P></DIV></DIV></DIV>
Map Name: Hakai Releif
Legend
All Layers and Tables
Dynamic Legend
Dynamic All Layers
Layers:
Description: <DIV STYLE="text-align:Left;"><DIV><DIV><P STYLE="margin:0 0 0 0;"><SPAN><SPAN>Layers used for Hakai Terrain Relief:</SPAN></SPAN></P><P STYLE="margin:0 0 0 0;"><SPAN><SPAN>1) Land Mask</SPAN></SPAN></P><P STYLE="margin:0 0 0 0;"><SPAN><SPAN>Land Mask is derived from the Greater Hakai Area of Interest Boundary - the British Columbia shoreline dataset (BC DATA - 2013). 2012 + 2014 LiDAR datasets were used to enhance shoreline data for Calvert Island area. A 0 tide was used to create more accurate polygons that formed to the shoreline better than the provincial dataset. Manual edits and quality control using 2006 + 2012 orthophotos was also conducted by HAKAI SPAR in 2014. </SPAN></SPAN></P><P STYLE="margin:0 0 0 0;"><SPAN><SPAN>2) Streams</SPAN></SPAN></P><P STYLE="margin:0 0 0 0;"><SPAN><SPAN>Streams are based on the British Columbia Fresh Water Atlas (</SPAN></SPAN><A href="http://geobc.gov.bc.ca/base-mapping/atlas/fwa/"><SPAN><SPAN>http://geobc.gov.bc.ca/base-mapping/atlas/fwa/)</SPAN></SPAN></A><SPAN><SPAN>. FWA is dissolved and scale dependant. Dissolved based on stream order so relative stream sizes can be reflected in the basemap. No alterations have been made to the streams data although some errors are observed on smaller order streams. An updated dataset based on LiDAR hydrology outputs will enhance this data layer in future versions.</SPAN></SPAN></P><P STYLE="margin:0 0 0 0;"><SPAN><SPAN>3) Lakes</SPAN></SPAN></P><P STYLE="margin:0 0 0 0;"><SPAN><SPAN>Lakes are derived from the British Columbia Fresh Water Atlas (</SPAN></SPAN><A href="http://geobc.gov.bc.ca/base-mapping/atlas/fwa/"><SPAN><SPAN>http://geobc.gov.bc.ca/base-mapping/atlas/fwa/)</SPAN></SPAN></A><SPAN><SPAN>.</SPAN></SPAN></P><P STYLE="margin:0 0 11 0;"><SPAN><SPAN>Minor manual edits have been made to enhance the lakes layer on Calvert Island by HAKAI SPAR.</SPAN></SPAN></P><P STYLE="margin:0 0 11 0;"><SPAN><SPAN>4) DEM (Digital Elevation Model)</SPAN></SPAN></P><P STYLE="margin:0 0 11 0;"><SPAN><SPAN>DEM was supplied by the TRIM dataset at 25 meter spatial resolution. Edits include resampling the 25 meters to 5 meters to improve the look by giving it a smoother appearance. A clip was used (using the land mask) to smooth the edges of the shoreline. Calvert Island was erased so the Hakai LiDAR dataset could be used to enhance the spatial resolution of the final product. The Hakai LiDAR data (2m spatial resolution) is from the November 14</SPAN></SPAN><SPAN><SPAN>th </SPAN></SPAN><SPAN><SPAN>data and requires further processing. Inaccuracies exist in the LiDAR based DEM and it should only be used for visualization. Updates in 2015 will allow for the publishing of a new DEM and therefore updated Hakai Terrain Relief basemap. </SPAN></SPAN></P><P STYLE="margin:0 0 11 0;"><SPAN><SPAN>5) Hillshade</SPAN></SPAN></P><P STYLE="margin:0 0 11 0;"><SPAN><SPAN>Hillshade model was developed in ARC desktop from the TRIM 25 meter model. A raster calculator was used to convert “no-data” to a value of 180 (flat land). A clip to the shoreline (land mask) was used to ensure no bleeding of no data would impact the look of the final basemap. </SPAN></SPAN></P><P STYLE="margin:0 0 11 0;"><SPAN><SPAN>Hillshade for Calvert Island was conducted using the November 14</SPAN></SPAN><SPAN><SPAN>th </SPAN></SPAN><SPAN><SPAN>LiDAR based DEM (2m). Future enhanced DEM data will result in a new hillshade for 2015.</SPAN></SPAN></P><P STYLE="margin:0 0 11 0;"><SPAN><SPAN>6) Bathymetry model and hillshade. </SPAN></SPAN></P><P STYLE="margin:0 0 11 0;"><SPAN><SPAN>25 meter bathymetry model was resampled to 5 meters and raster calculator “no data” to “0” to fill any gaps and clipped to the “land mask“ layer. The TRIM based 25 meter model had a raster calculator to “0” to fill the gaps and a hillshade was produced. A clip of the 25 meter hillshade using the “land mask” produced a final product to be fused with the bathymetry model for all ocean areas. </SPAN></SPAN></P><P STYLE="margin:0 0 11 0;"><SPAN>Gamma corrected Orthorectified Elevation Tint Fusions were created by fusing the described hillshades with the DEM, applying a custom tint to the latter, separately for land and ocean hillshade-DEM pairs as per http://www.esri.com/news/arcwatch/0612/using-image-analysis-functions-to-display-layer-tints-on-hillshades.html. The same process was followed for the land component of Calvert Island separately. The resulting resolutions for the land and ocean Tint Fusions are: </SPAN></P><P STYLE="margin:0 0 11 0;"><SPAN>- 25m for the ocean component </SPAN></P><P STYLE="margin:0 0 11 0;"><SPAN>- 25m for the land component excluding Calvert Island</SPAN></P><P STYLE="margin:0 0 11 0;"><SPAN>- 5m for the land component of Calvert Island</SPAN></P><P STYLE="margin:0 0 11 0;"><SPAN><SPAN>A summary of the Raster Data used for the Hakai Terrain Relief basemap (dated December 5</SPAN></SPAN><SPAN><SPAN>th</SPAN></SPAN><SPAN><SPAN>, 2014)</SPAN></SPAN></P><P STYLE="margin:0 0 11 0;"><SPAN><SPAN>Thee sets of DEM / Hillshades were produced to cover the entire greater hakai study area.</SPAN></SPAN></P><OL STYLE="margin:0 0 0 0;padding:0 0 0 0;"><LI><P STYLE="margin:0 0 11 0;"><SPAN><SPAN>TRIM based DEM + Hillshade – All land except Calvert / Hecate region.</SPAN></SPAN></P></LI><LI><P STYLE="margin:0 0 11 0;"><SPAN><SPAN>2012 / 2014 LiDAR based DEM + Hillshade (dated November 14</SPAN></SPAN><SPAN><SPAN>th</SPAN></SPAN><SPAN><SPAN>– 2014) – All Calvert + Hecate areas. * Errors in the data. DEM needs work and should only be used for visualization. Updated expected by February, 2015.</SPAN></SPAN></P></LI></OL><P STYLE="margin:0 0 11 20;"><SPAN>3. Bathymetry (TRIM based) elevation model + hillshade. Covers all ocean areas.</SPAN></P><P><SPAN>This basemap can be downloaded and used offline on ArcGIS Desktop, ArcGIS App for iOS and Android, and ArcGIS Collector for iOS and Android. </SPAN></P></DIV></DIV></DIV>
Service Item Id: 985dd1f623dd4e818066c8c4e66d8b80
Copyright Text: Santiago Gonzalez Arriola, Keith Holmes, Terrain Resource Information Management Program (TRIM), Terra Remote Sensing, CEDD Lab UVic, BC Freshwater Atlas, Government of British Columbia, Geo BC.
Spatial Reference:
102100
(3857)
LatestVCSWkid(0)
Single Fused Map Cache: true
Tile Info:
- Height: 256
- Width: 256
- DPI: 96
-
Levels of Detail: 24
-
Level ID: 1
[ Start Tile, End Tile ]
- Resolution: 78271.5169639999
- Scale: 2.95828763795777E8
-
Level ID: 2
[ Start Tile, End Tile ]
- Resolution: 39135.7584820001
- Scale: 1.47914381897889E8
-
Level ID: 3
[ Start Tile, End Tile ]
- Resolution: 19567.8792409999
- Scale: 7.3957190948944E7
-
Level ID: 4
[ Start Tile, End Tile ]
- Resolution: 9783.93962049996
- Scale: 3.6978595474472E7
-
Level ID: 5
[ Start Tile, End Tile ]
- Resolution: 4891.96981024998
- Scale: 1.8489297737236E7
- Format: Mixed
- Compression Quality: 75.0
- Origin: X: -2.0037508342787E7
Y: 2.0037508342787E7
- Spatial Reference: 102100
(3857)
LatestVCSWkid(0)
Storage Info:
- Storage Format: esriMapCacheStorageModeCompactV2
- Packet Size: 128
Initial Extent:
XMin: -1.4603550332965063E7
YMin: 6373622.452010341
XMax: -1.363769282143494E7
YMax: 7012135.910589665
Spatial Reference: 102100
(0)
LatestVCSWkid(0)
Full Extent:
XMin: -1.4502609823599672E7
YMin: 6390742.573026457
XMax: -1.3729741625811102E7
YMax: 6995242.573026457
Spatial Reference: 102100
(0)
LatestVCSWkid(0)
Units: esriMeters
Supported Image Format Types: PNG32,PNG24,PNG,JPG,DIB,TIFF,EMF,PS,PDF,GIF,SVG,SVGZ,BMP
Document Info:
Title: Hakai Terrain Relief
Author:
Comments: <DIV STYLE="text-align:Left;"><DIV><DIV><P STYLE="margin:0 0 0 0;"><SPAN><SPAN>Layers used for Hakai Terrain Relief:</SPAN></SPAN></P><P STYLE="margin:0 0 0 0;"><SPAN><SPAN>1) Land Mask</SPAN></SPAN></P><P STYLE="margin:0 0 0 0;"><SPAN><SPAN>Land Mask is derived from the Greater Hakai Area of Interest Boundary - the British Columbia shoreline dataset (BC DATA - 2013). 2012 + 2014 LiDAR datasets were used to enhance shoreline data for Calvert Island area. A 0 tide was used to create more accurate polygons that formed to the shoreline better than the provincial dataset. Manual edits and quality control using 2006 + 2012 orthophotos was also conducted by HAKAI SPAR in 2014. </SPAN></SPAN></P><P STYLE="margin:0 0 0 0;"><SPAN><SPAN>2) Streams</SPAN></SPAN></P><P STYLE="margin:0 0 0 0;"><SPAN><SPAN>Streams are based on the British Columbia Fresh Water Atlas (</SPAN></SPAN><A href="http://geobc.gov.bc.ca/base-mapping/atlas/fwa/"><SPAN><SPAN>http://geobc.gov.bc.ca/base-mapping/atlas/fwa/)</SPAN></SPAN></A><SPAN><SPAN>. FWA is dissolved and scale dependant. Dissolved based on stream order so relative stream sizes can be reflected in the basemap. No alterations have been made to the streams data although some errors are observed on smaller order streams. An updated dataset based on LiDAR hydrology outputs will enhance this data layer in future versions.</SPAN></SPAN></P><P STYLE="margin:0 0 0 0;"><SPAN><SPAN>3) Lakes</SPAN></SPAN></P><P STYLE="margin:0 0 0 0;"><SPAN><SPAN>Lakes are derived from the British Columbia Fresh Water Atlas (</SPAN></SPAN><A href="http://geobc.gov.bc.ca/base-mapping/atlas/fwa/"><SPAN><SPAN>http://geobc.gov.bc.ca/base-mapping/atlas/fwa/)</SPAN></SPAN></A><SPAN><SPAN>.</SPAN></SPAN></P><P STYLE="margin:0 0 11 0;"><SPAN><SPAN>Minor manual edits have been made to enhance the lakes layer on Calvert Island by HAKAI SPAR.</SPAN></SPAN></P><P STYLE="margin:0 0 11 0;"><SPAN><SPAN>4) DEM (Digital Elevation Model)</SPAN></SPAN></P><P STYLE="margin:0 0 11 0;"><SPAN><SPAN>DEM was supplied by the TRIM dataset at 25 meter spatial resolution. Edits include resampling the 25 meters to 5 meters to improve the look by giving it a smoother appearance. A clip was used (using the land mask) to smooth the edges of the shoreline. Calvert Island was erased so the Hakai LiDAR dataset could be used to enhance the spatial resolution of the final product. The Hakai LiDAR data (2m spatial resolution) is from the November 14</SPAN></SPAN><SPAN><SPAN>th </SPAN></SPAN><SPAN><SPAN>data and requires further processing. Inaccuracies exist in the LiDAR based DEM and it should only be used for visualization. Updates in 2015 will allow for the publishing of a new DEM and therefore updated Hakai Terrain Relief basemap. </SPAN></SPAN></P><P STYLE="margin:0 0 11 0;"><SPAN><SPAN>5) Hillshade</SPAN></SPAN></P><P STYLE="margin:0 0 11 0;"><SPAN><SPAN>Hillshade model was developed in ARC desktop from the TRIM 25 meter model. A raster calculator was used to convert “no-data” to a value of 180 (flat land). A clip to the shoreline (land mask) was used to ensure no bleeding of no data would impact the look of the final basemap. </SPAN></SPAN></P><P STYLE="margin:0 0 11 0;"><SPAN><SPAN>Hillshade for Calvert Island was conducted using the November 14</SPAN></SPAN><SPAN><SPAN>th </SPAN></SPAN><SPAN><SPAN>LiDAR based DEM (2m). Future enhanced DEM data will result in a new hillshade for 2015.</SPAN></SPAN></P><P STYLE="margin:0 0 11 0;"><SPAN><SPAN>6) Bathymetry model and hillshade. </SPAN></SPAN></P><P STYLE="margin:0 0 11 0;"><SPAN><SPAN>25 meter bathymetry model was resampled to 5 meters and raster calculator “no data” to “0” to fill any gaps and clipped to the “land mask“ layer. The TRIM based 25 meter model had a raster calculator to “0” to fill the gaps and a hillshade was produced. A clip of the 25 meter hillshade using the “land mask” produced a final product to be fused with the bathymetry model for all ocean areas. </SPAN></SPAN></P><P STYLE="margin:0 0 11 0;"><SPAN>Gamma corrected Orthorectified Elevation Tint Fusions were created by fusing the described hillshades with the DEM, applying a custom tint to the latter, separately for land and ocean hillshade-DEM pairs as per http://www.esri.com/news/arcwatch/0612/using-image-analysis-functions-to-display-layer-tints-on-hillshades.html. The same process was followed for the land component of Calvert Island separately. The resulting resolutions for the land and ocean Tint Fusions are: </SPAN></P><P STYLE="margin:0 0 11 0;"><SPAN>- 25m for the ocean component </SPAN></P><P STYLE="margin:0 0 11 0;"><SPAN>- 25m for the land component excluding Calvert Island</SPAN></P><P STYLE="margin:0 0 11 0;"><SPAN>- 5m for the land component of Calvert Island</SPAN></P><P STYLE="margin:0 0 11 0;"><SPAN><SPAN>A summary of the Raster Data used for the Hakai Terrain Relief basemap (dated December 5</SPAN></SPAN><SPAN><SPAN>th</SPAN></SPAN><SPAN><SPAN>, 2014)</SPAN></SPAN></P><P STYLE="margin:0 0 11 0;"><SPAN><SPAN>Thee sets of DEM / Hillshades were produced to cover the entire greater hakai study area.</SPAN></SPAN></P><OL STYLE="margin:0 0 0 0;padding:0 0 0 0;"><LI><P STYLE="margin:0 0 11 0;"><SPAN><SPAN>TRIM based DEM + Hillshade – All land except Calvert / Hecate region.</SPAN></SPAN></P></LI><LI><P STYLE="margin:0 0 11 0;"><SPAN><SPAN>2012 / 2014 LiDAR based DEM + Hillshade (dated November 14</SPAN></SPAN><SPAN><SPAN>th</SPAN></SPAN><SPAN><SPAN>– 2014) – All Calvert + Hecate areas. * Errors in the data. DEM needs work and should only be used for visualization. Updated expected by February, 2015.</SPAN></SPAN></P></LI></OL><P STYLE="margin:0 0 11 20;"><SPAN>3. Bathymetry (TRIM based) elevation model + hillshade. Covers all ocean areas.</SPAN></P><P><SPAN>This basemap can be downloaded and used offline on ArcGIS Desktop, ArcGIS App for iOS and Android, and ArcGIS Collector for iOS and Android. </SPAN></P></DIV></DIV></DIV>
Subject: Hakai Terrain Relief is a basemap for the greater hakai study area that highlights topographic relief and bathymetry.
This basemap is meant to be used only for visualization purposes and for understanding the spatial context as it relates to topographic relief and bathymetry in a continium.
Category:
Keywords: Basemap
AntialiasingMode: Fast
TextAntialiasingMode: Force
Supports Dynamic Layers: true
MaxRecordCount: 2000
MaxImageHeight: 4096
MaxImageWidth: 4096
Supported Query Formats: JSON, geoJSON, PBF
Supports Query Data Elements: true
Min Scale: 144447.638572
Max Scale: 4513.988705
Min LOD: 12
Max LOD: 17
Supports Datum Transformation: true
Child Resources:
Info
Dynamic Layer
Supported Operations:
Export Map
Identify
QueryLegends
QueryDomains
Find
EstimateExportTilesSize
ExportTiles
Return Updates