View In:
ArcGIS JavaScript
ArcGIS Online Map Viewer
ArcGIS Earth
Service Description: EQUIPMENT:
NORBIT iWBMS - MULTIBEAM
RESON 7125 - MULTIBEAM
TRIMBLE AT1675-540TS - GPS RECIEVER
APPLANIX SURFMASTER - IMU *PAIRED WITH THE RESON
APPLANIX WAVEMASTER - IMU *PAIRED WITH THE NORBIT
POSITIONING:
HORIZONTAL: NAD83 CSRS
VERTICAL:
Real-Time: Ellipsoidal (GRS80)
Post-Processed: Orthometric (CGG2013a)
METHODS: PP-RTX
*REAL TIME RTK WAS COLLECTED, HOWEVER GIVEN THE INTERMITTANCY OF CONNECTION, PP-RTX
WAS APPLIED TO THE DATA.
FILE FORMATS:
NORBIT DATA WAS COLLECTED BOTH AS QINSY DB FILES, AND IN NORBIT DCT SOFTWARE
AS S7K FILES. THE S7K WERE THE PRIMARY DATA USED IN THE QIMERA PROJECT.
INS DATA WERE EXPORTED FROM POSPAC AS SBET FORMAT FILES.
DIRECTORY STRUCTURE:
INS
PROJECT
POSPAC projects
RESON
Raw navigation files from the Reson
Raw Navigation Files
QIMERA
Qimera Project
QINSY
Qinsy Projects - The first project named 'test' corrupted in the field, so a new one named SFU_MBES was created.
RASTER_BACKGROUND
Basemaps of the survey site
WBMS
S7K Files recorded via Norbit DCT
Name: Geospatial/FraserCanyon_MBES
Description:
Single Fused Map Cache: false
Extent:
XMin: -1.3625119033599999E7
YMin: 6369658.396189213
XMax: -1.3512978546700502E7
YMax: 6860054.8389
Spatial Reference: 102100
(3857)
LatestVCSWkid(0)
Initial Extent:
XMin: -1.3625119033599999E7
YMin: 6369658.396189213
XMax: -1.3512978546700502E7
YMax: 6860054.8389
Spatial Reference: 102100
(3857)
LatestVCSWkid(0)
Full Extent:
XMin: -1.3625119033599999E7
YMin: 6369658.396189213
XMax: -1.3512978546700502E7
YMax: 6860054.8389
Spatial Reference: 102100
(3857)
LatestVCSWkid(0)
Pixel Size X: 0.4999999415888862
Pixel Size Y: 0.4999999415888848
Band Count: 1
Pixel Type: F32
RasterFunction Infos: {"rasterFunctionInfos": [
{
"name": "MBES_blue_relief",
"description": "relief",
"help": ""
},
{
"name": "None",
"description": "Make a Raster or Raster Dataset into a Function Raster Dataset.",
"help": ""
}
]}
Mensuration Capabilities:
Inspection Capabilities:
Has Histograms: true
Has Colormap: false
Has Multi Dimensions : false
Rendering Rule:
Min Scale: 0
Max Scale: 0
Copyright Text: Hakai Institute and SFU River Dynamics Laboratory
Service Data Type: esriImageServiceDataTypeGeneric
Min Values: 0
Max Values: 178
Mean Values: 55.25617525876788
Standard Deviation Values: 70.43312875426025
Object ID Field: OBJECTID
Fields:
-
OBJECTID
(
type: esriFieldTypeOID, alias: OBJECTID
)
-
Shape
(
type: esriFieldTypeGeometry, alias: Shape
)
-
Name
(
type: esriFieldTypeString, alias: Name, length: 200
)
-
MinPS
(
type: esriFieldTypeDouble, alias: MinPS
)
-
MaxPS
(
type: esriFieldTypeDouble, alias: MaxPS
)
-
LowPS
(
type: esriFieldTypeDouble, alias: LowPS
)
-
HighPS
(
type: esriFieldTypeDouble, alias: HighPS
)
-
Category
(
type: esriFieldTypeInteger, alias: Category
, Coded Values:
[0: Unknown]
, [1: Primary]
, [2: Overview]
, ...6 more...
)
-
Tag
(
type: esriFieldTypeString, alias: Tag, length: 100
)
-
GroupName
(
type: esriFieldTypeString, alias: GroupName, length: 100
)
-
ProductName
(
type: esriFieldTypeString, alias: ProductName, length: 100
)
-
CenterX
(
type: esriFieldTypeDouble, alias: CenterX
)
-
CenterY
(
type: esriFieldTypeDouble, alias: CenterY
)
-
ZOrder
(
type: esriFieldTypeInteger, alias: ZOrder
)
-
Shape_Length
(
type: esriFieldTypeDouble, alias: Shape_Length
)
-
Shape_Area
(
type: esriFieldTypeDouble, alias: Shape_Area
)
Default Mosaic Method: Northwest
Allowed Mosaic Methods: NorthWest,Center,LockRaster,ByAttribute,Nadir,Viewpoint,Seamline,None
SortField:
SortValue: null
Mosaic Operator: First
Default Compression Quality: 75
Default Resampling Method: Bilinear
Max Record Count: 1000
Max Image Height: 4100
Max Image Width: 15000
Max Download Image Count: 20
Max Mosaic Image Count: 20
Allow Raster Function: true
Allow Copy: true
Allow Analysis: true
Allow Compute TiePoints: false
Supports Statistics: true
Supports Advanced Queries: true
Use StandardizedQueries: true
Raster Type Infos:
Name: Raster Dataset
Description: Supports all ArcGIS Raster Datasets
Help:
Has Raster Attribute Table: false
Edit Fields Info: null
Ownership Based AccessControl For Rasters: null
Child Resources:
Info
Histograms
Statistics
Key Properties
Legend
Raster Function Infos
Supported Operations:
Export Image
Query
Identify
Compute Histograms
Compute Statistics Histograms
Get Samples
Compute Class Statistics
Query GPS Info
Find Images
Image to Map
Map to Image
Measure from Image
Image to Map Multiray
Query Boundary
Compute Pixel Location
Compute Angles
Validate
Project