View In:
ArcGIS JavaScript
ArcGIS Online Map Viewer
ArcGIS Earth
Service Description: This dataset is terrain relief of the Fraser River.Airborne Lidar and Imagery data continued to be collected by the ACO from 2016-2022, in partnership with Dr. Jeremy Venditti (SFU) and Dr. Brian Menounos (UNBC, Hakai Institute). The goal of this data is to inventory and characterize the terrain throughout the Fraser River system to look at contemporary and historical landslide impact on flow dynamics, fish migration, and genetics of Fraser River Salmon. This work was underscored on November 1st, 2018 by the Big Bar Landslide, which partly blocked the Fraser River, creating a hydraulic barrier to salmon passage at moderate to high flows and significantly impeded salmon migration to the upper Fraser Basin.
Lidar data (LAZ)- classified point cloud – digital surface model – digital terrain model. Image data (TIFF) – 4 band orthophotos – RGB & NIR. Hyperspectral data (not always captured). A detailed project report with the summary of acquisition, processing, and overall hardware / software is available (PDF). Sensors and instrument breakdown: Inertial Navigation System: Manufacturer: Applanix (Canada), IMU Model: POS AV 510 IMAR, GNSS Model: Trimble AV39. Laser sensor: Riegl LMS-Q 780 long-range airborne laser scanner. Point density ranges per project and landscape from 1-12 points per square meter. Aerial cameras: two fully integrated Phaseone Industrial iXU-RS1000 medium format cameras, resolution: 100MP, lens: 50mm f/4.0 Rodenstock. Hyperspectral Sensor: manufacturer: Specim, model: AisaFENIX 384, spectral range: 380 - 2500 nm
Name: Geospatial/FraserRiver_ACO_Elevation
Description:
Single Fused Map Cache: false
Extent:
XMin: -1.36332470306E7
YMin: 6342203.474600002
XMax: -1.35033880306E7
YMax: 6866958.474600002
Spatial Reference: 102100
(3857)
LatestVCSWkid(0)
Initial Extent:
XMin: -1.36332470306E7
YMin: 6342203.474600002
XMax: -1.35033880306E7
YMax: 6866958.474600002
Spatial Reference: 102100
(3857)
LatestVCSWkid(0)
Full Extent:
XMin: -1.36332470306E7
YMin: 6342203.474600002
XMax: -1.35033880306E7
YMax: 6866958.474600002
Spatial Reference: 102100
(3857)
LatestVCSWkid(0)
Pixel Size X: 1.0
Pixel Size Y: 1.0
Band Count: 1
Pixel Type: F32
RasterFunction Infos: {"rasterFunctionInfos": [
{
"name": "Shaded Relief Number 11 Multidirectional",
"description": "A raster function template.",
"help": ""
},
{
"name": "None",
"description": "Make a Raster or Raster Dataset into a Function Raster Dataset.",
"help": ""
}
]}
Mensuration Capabilities:
Inspection Capabilities:
Has Histograms: true
Has Colormap: false
Has Multi Dimensions : false
Rendering Rule:
Min Scale: 0
Max Scale: 0
Copyright Text: Hakai Institute, UNBC, SFU
Service Data Type: esriImageServiceDataTypeElevation
Min Values: -197.1406470835209
Max Values: 2602.570486396551
Mean Values: 803.1461096878742
Standard Deviation Values: 413.5708071309807
Object ID Field: OBJECTID
Fields:
-
OBJECTID
(
type: esriFieldTypeOID, alias: OBJECTID
)
-
Shape
(
type: esriFieldTypeGeometry, alias: Shape
)
-
Name
(
type: esriFieldTypeString, alias: Name, length: 200
)
-
MinPS
(
type: esriFieldTypeDouble, alias: MinPS
)
-
MaxPS
(
type: esriFieldTypeDouble, alias: MaxPS
)
-
LowPS
(
type: esriFieldTypeDouble, alias: LowPS
)
-
HighPS
(
type: esriFieldTypeDouble, alias: HighPS
)
-
Category
(
type: esriFieldTypeInteger, alias: Category
, Coded Values:
[0: Unknown]
, [1: Primary]
, [2: Overview]
, ...6 more...
)
-
Tag
(
type: esriFieldTypeString, alias: Tag, length: 100
)
-
GroupName
(
type: esriFieldTypeString, alias: GroupName, length: 100
)
-
ProductName
(
type: esriFieldTypeString, alias: ProductName, length: 100
)
-
CenterX
(
type: esriFieldTypeDouble, alias: CenterX
)
-
CenterY
(
type: esriFieldTypeDouble, alias: CenterY
)
-
ZOrder
(
type: esriFieldTypeInteger, alias: ZOrder
)
-
Shape_Length
(
type: esriFieldTypeDouble, alias: Shape_Length
)
-
Shape_Area
(
type: esriFieldTypeDouble, alias: Shape_Area
)
Default Mosaic Method: Northwest
Allowed Mosaic Methods: NorthWest,Center,LockRaster,ByAttribute,Nadir,Viewpoint,Seamline,None
SortField:
SortValue: null
Mosaic Operator: First
Default Compression Quality: 75
Default Resampling Method: Bilinear
Max Record Count: 1000
Max Image Height: 4100
Max Image Width: 15000
Max Download Image Count: 20
Max Mosaic Image Count: 20
Allow Raster Function: true
Allow Copy: true
Allow Analysis: true
Allow Compute TiePoints: false
Supports Statistics: true
Supports Advanced Queries: true
Use StandardizedQueries: true
Raster Type Infos:
Name: Raster Dataset
Description: Supports all ArcGIS Raster Datasets
Help:
Has Raster Attribute Table: false
Edit Fields Info: null
Ownership Based AccessControl For Rasters: null
Child Resources:
Info
Histograms
Statistics
Key Properties
Legend
Raster Function Infos
Supported Operations:
Export Image
Query
Identify
Measure
Compute Histograms
Compute Statistics Histograms
Get Samples
Compute Class Statistics
Query GPS Info
Find Images
Image to Map
Map to Image
Measure from Image
Image to Map Multiray
Query Boundary
Compute Pixel Location
Compute Angles
Validate
Project
Calculate Volume