View In:
ArcGIS JavaScript
ArcGIS Online Map Viewer
ArcGIS Earth
Service Description: NOAA_BC_Bathymetry
Name: NOAA_BC_Bathymetry
Description:
Single Fused Map Cache: false
Extent:
XMin: -1.5300910392324142E7
YMin: 6115098.970659071
XMax: -1.3603232795450317E7
YMax: 7208204.553954106
Spatial Reference: 102100
(3857)
LatestVCSWkid(0)
Initial Extent:
XMin: -1.5300910392324142E7
YMin: 6115098.970659071
XMax: -1.3603232795450317E7
YMax: 7208204.553954106
Spatial Reference: 102100
(3857)
LatestVCSWkid(0)
Full Extent:
XMin: -1.5300910392324142E7
YMin: 6115098.970659071
XMax: -1.3603232795450317E7
YMax: 7208204.553954106
Spatial Reference: 102100
(3857)
LatestVCSWkid(0)
Pixel Size X: 117.21054935610505
Pixel Size Y: 117.21054935610499
Band Count: 1
Pixel Type: F32
RasterFunction Infos: {"rasterFunctionInfos": [
{
"name": "GliderStretched",
"description": "A raster function template.",
"help": ""
},
{
"name": "Style_Update_V2",
"description": "A raster function template.",
"help": ""
},
{
"name": "None",
"description": "",
"help": ""
}
]}
Mensuration Capabilities: Basic
Inspection Capabilities:
Has Histograms: true
Has Colormap: false
Has Multi Dimensions : false
Rendering Rule:
Min Scale: 0
Max Scale: 0
Copyright Text:
Service Data Type: esriImageServiceDataTypeGeneric
Min Values: -4265.2299804688
Max Values: 0
Mean Values: -2308.2852296525
Standard Deviation Values: 1338.208850725
Object ID Field:
Fields:
None
Default Mosaic Method: Center
Allowed Mosaic Methods:
SortField:
SortValue: null
Mosaic Operator: First
Default Compression Quality: 75
Default Resampling Method: Bilinear
Max Record Count: null
Max Image Height: 4100
Max Image Width: 15000
Max Download Image Count: null
Max Mosaic Image Count: null
Allow Raster Function: true
Allow Copy: true
Allow Analysis: true
Allow Compute TiePoints: false
Supports Statistics: false
Supports Advanced Queries: false
Use StandardizedQueries: true
Raster Type Infos:
Name: Raster Dataset
Description: Supports all ArcGIS Raster Datasets
Help:
Has Raster Attribute Table: false
Edit Fields Info: null
Ownership Based AccessControl For Rasters: null
Child Resources:
Info
Histograms
Statistics
Key Properties
Legend
Raster Function Infos
Supported Operations:
Export Image
Identify
Measure
Compute Histograms
Compute Statistics Histograms
Get Samples
Compute Class Statistics
Query Boundary
Compute Pixel Location
Compute Angles
Validate
Project